BEGIN:VCALENDAR
VERSION:2.0
PRODID:EVENTFROG//EVENT//ICAL
BEGIN:VEVENT
UID:20260425T023021Z-7453502688115880318@eventfrog.ch
DTSTAMP:20260425T023021Z
DTSTART:20260501T164500Z
DTEND:20260501T184500Z
SUMMARY:Zürich Moon Circle - Full Moon in Scorpio
DESCRIPTION:Full Moon in Scorpio women's ritual circle in Zürich. Practical astrology, somatic work, cord cutting, ceremony. Beltane. The moon peaks live in the room. For women & femmes.\n\nhttps://eventfrog.ch/en/p/health-spirituality/spirituality/zuerich-moon-circle-full-moon-in-scorpio-7453502688115880318.html
LOCATION:Atman Studio
GEO:47.378527;8.520535
URL:https://eventfrog.ch/en/p/health-spirituality/spirituality/zuerich-moon-circle-full-moon-in-scorpio-7453502688115880318.html
END:VEVENT
END:VCALENDAR