BEGIN:VCALENDAR
VERSION:2.0
PRODID:EVENTFROG//EVENT//ICAL
BEGIN:VEVENT
UID:20260425T030054Z-7453545761332053189@eventfrog.ch
DTSTAMP:20260425T030054Z
DTSTART:20260529T173000Z
DTEND:20260530T020000Z
SUMMARY:Boom Ah Yeah Live! w/ Elijah Salomon & Etobasi
DESCRIPTION:Elijah Salomon spielt am 29. Mai 2026 in Luzern «Essenz» live mit Band, unterstützt von Etobasi, Mo'Fyah Sound und Selecta Iray.\n\nhttps://eventfrog.ch/de/p/konzerte/reggae-ska/boom-ah-yeah-live-w-elijah-salomon-etobasi-7453545761332053189.html
LOCATION:Schüür
GEO:47.044600;8.311250
URL:https://eventfrog.ch/de/p/konzerte/reggae-ska/boom-ah-yeah-live-w-elijah-salomon-etobasi-7453545761332053189.html
END:VEVENT
END:VCALENDAR