BEGIN:VCALENDAR
VERSION:2.0
PRODID:EVENTFROG//EVENT//ICAL
BEGIN:VEVENT
UID:20260426T000954Z-7453709256597984663@eventfrog.ch
DTSTAMP:20260426T000954Z
DTSTART:20260512T170000Z
DTEND:20260512T190000Z
SUMMARY:Aromapflege für deine Gesundheit & dein Wohlbefinden
DESCRIPTION:Entdecke an einem kostenlosen Abend, wie ätherische Öle / Düfte dein Wohlbefinden auf natürliche Weise verbessern und wie sie dich in deinem Alltag unterstützen können.\n\nhttps://eventfrog.ch/de/p/kurse-seminare/sonstige-kurse-seminare/aromapflege-fuer-deine-gesundheit-dein-wohlbefinden-7453709256597984663.html
LOCATION:Praxis Smultronställe Massage &  Energiearbeit
GEO:47.074087;8.277289
URL:https://eventfrog.ch/de/p/kurse-seminare/sonstige-kurse-seminare/aromapflege-fuer-deine-gesundheit-dein-wohlbefinden-7453709256597984663.html
END:VEVENT
END:VCALENDAR