BEGIN:VCALENDAR
VERSION:2.0
PRODID:EVENTFROG//EVENT//ICAL
BEGIN:VEVENT
UID:20260425T154255Z-7453712501508704064@eventfrog.ch
DTSTAMP:20260425T154255Z
DTSTART:20260425T180000Z
DTEND:20260425T210000Z
SUMMARY:Countryabig mit Western Store
DESCRIPTION:Ab 20 Uhr spielt die Band im Western Store, dazu serviert Roli Meister Smoker-Food; Tanz ist willkommen, Türöffnung 18:30 Uhr.\n\nhttps://eventfrog.ch/de/p/konzerte/country/countryabig-mit-western-store-7453712501508704064.html
LOCATION:Kultur-Beiz Hirschen
GEO:47.757428;8.610588
URL:https://eventfrog.ch/de/p/konzerte/country/countryabig-mit-western-store-7453712501508704064.html
END:VEVENT
END:VCALENDAR