BEGIN:VCALENDAR
VERSION:2.0
PRODID:EVENTFROG//EVENT//ICAL
BEGIN:VEVENT
UID:20260426T010432Z-7453716645682409463@eventfrog.ch
DTSTAMP:20260426T010432Z
DTSTART:20260523T110000Z
DTEND:20260525T140000Z
SUMMARY:Salsa Cubana Anfänger Workshop
DESCRIPTION:Bianca & Jens führen am 23.-25. Mai einen Salsa-Einsteigerworkshop ohne Vorkenntnisse von 13 bis 16 Uhr durch.\n\nhttps://eventfrog.ch/de/p/kurse-seminare/musik-tanz/salsa-cubana-anfaenger-workshop-7453716645682409463.html
LOCATION:Salsarica
GEO:47.385700;8.516850
URL:https://eventfrog.ch/de/p/kurse-seminare/musik-tanz/salsa-cubana-anfaenger-workshop-7453716645682409463.html
END:VEVENT
END:VCALENDAR