BEGIN:VCALENDAR
VERSION:2.0
PRODID:EVENTFROG//EVENT//ICAL
BEGIN:VEVENT
UID:20260426T000405Z-7453769608891266342@eventfrog.ch
DTSTAMP:20260426T000405Z
DTSTART:20260521T160000Z
DTEND:20260521T180000Z
SUMMARY:Cocktail Exclusif chez Anne Fontaine
DESCRIPTION:Cocktail découverte de l'univers sophistiqué d'Anne Fontaine,  avec défilé boutique  de la collection Printemps-Été 2026\n\n\nhttps://eventfrog.ch/en/p/courses-seminars/art-culture/cocktail-exclusif-chez-anne-fontaine-7453769608891266342.html
LOCATION:Anne Fontaine
GEO:46.204256;6.146571
URL:https://eventfrog.ch/en/p/courses-seminars/art-culture/cocktail-exclusif-chez-anne-fontaine-7453769608891266342.html
END:VEVENT
END:VCALENDAR