BEGIN:VCALENDAR
VERSION:2.0
PRODID:EVENTFROG//EVENT//ICAL
BEGIN:VEVENT
UID:20260426T041315Z-7453773002313889703@eventfrog.ch
DTSTAMP:20260426T041315Z
DTSTART:20260521T120000Z
DTEND:20260521T150000Z
SUMMARY:Tanznachmittag
DESCRIPTION:Tanznachmittag  mit Rocco Granada ein buntes Tanzrepertoire erwartet die Tänzer.\n\nhttps://eventfrog.ch/de/p/sport-fitness/tanzsport/tanznachmittag-7453773002313889703.html
LOCATION:Wirtschaft zur Schlacht
GEO:47.133883;8.195678
URL:https://eventfrog.ch/de/p/sport-fitness/tanzsport/tanznachmittag-7453773002313889703.html
END:VEVENT
END:VCALENDAR