BEGIN:VCALENDAR
VERSION:2.0
PRODID:EVENTFROG//EVENTGROUP//ICAL
BEGIN:VEVENT
UID:20260424T051552Z-7437153036059866725@eventfrog.ch
DTSTAMP:20260424T051552Z
DTSTART:20260425T090000Z
DTEND:20260425T190000Z
SUMMARY:Fischessen Fischereiverein Döttingen
DESCRIPTION:Fischessen mit Zanderfilets, regionalen Weinen und Fischerkaffee beim Fischereiverein Döttingen am 25. und 26. April 2026 im Fischzelt beim Botschaft-Gebäude.\n\nhttps://eventfrog.ch/de/p/essen-trinken/fischessen-fischereiverein-doettingen-7437153036059866725.html
LOCATION:Döttingen
GEO:47.573737;8.256053
URL:https://eventfrog.ch/de/p/essen-trinken/fischessen-fischereiverein-doettingen-7437153036059866725.html
END:VEVENT
BEGIN:VEVENT
UID:20260424T051552Z-7437153166636882497@eventfrog.ch
DTSTAMP:20260424T051552Z
DTSTART:20260426T090000Z
DTEND:20260426T130000Z
SUMMARY:Fischessen Fischereiverein Döttingen
DESCRIPTION:Fischessen mit Zanderfilets, regionalen Weinen und Fischerkaffee beim Fischereiverein Döttingen am 25. und 26. April 2026 im Fischzelt beim Botschaft-Gebäude.\n\nhttps://eventfrog.ch/de/p/essen-trinken/fischessen-fischereiverein-doettingen-7437153166636882497.html
LOCATION:Döttingen
GEO:47.573737;8.256053
URL:https://eventfrog.ch/de/p/essen-trinken/fischessen-fischereiverein-doettingen-7437153166636882497.html
END:VEVENT
END:VCALENDAR