BEGIN:VCALENDAR
VERSION:2.0
PRODID:EVENTFROG//EVENTGROUP//ICAL
BEGIN:VEVENT
UID:20260424T220038Z-7441783966376453151@eventfrog.ch
DTSTAMP:20260424T220038Z
DTSTART:20260918T180000Z
DTEND:20260918T200000Z
SUMMARY:Barbara Hutzenlaub - Sprechstunde
DESCRIPTION:Das Gesundheitswesen kränkelt. Ich kann helfen!\n\n\nhttps://eventfrog.ch/de/p/theater-buehne/comedy-kabarett/barbara-hutzenlaub-sprechstunde-7441783966376453151.html
LOCATION:Theater Fauteuil - Tabourettli
GEO:47.557349;7.586407
URL:https://eventfrog.ch/de/p/theater-buehne/comedy-kabarett/barbara-hutzenlaub-sprechstunde-7441783966376453151.html
END:VEVENT
BEGIN:VEVENT
UID:20260424T220038Z-7441784005987462925@eventfrog.ch
DTSTAMP:20260424T220038Z
DTSTART:20260919T180000Z
DTEND:20260919T200000Z
SUMMARY:Barbara Hutzenlaub - Sprechstunde
DESCRIPTION:Das Gesundheitswesen kränkelt. Ich kann helfen!\n\n\nhttps://eventfrog.ch/de/p/theater-buehne/comedy-kabarett/barbara-hutzenlaub-sprechstunde-7441784005987462925.html
LOCATION:Theater Fauteuil - Tabourettli
GEO:47.557349;7.586407
URL:https://eventfrog.ch/de/p/theater-buehne/comedy-kabarett/barbara-hutzenlaub-sprechstunde-7441784005987462925.html
END:VEVENT
END:VCALENDAR