BEGIN:VCALENDAR
VERSION:2.0
PRODID:EVENTFROG//EVENTGROUP//ICAL
BEGIN:VEVENT
UID:20260425T120924Z-7442144500942641779@eventfrog.ch
DTSTAMP:20260425T120924Z
DTSTART:20260616T070000Z
DTEND:20260616T140000Z
SUMMARY:GLÜCK Seminar
DESCRIPTION:Dieses Seminar zeigt, was wirklich glücklich macht: Erkenntnisse der Glücksforschung und praktische Übungen stärken Achtsamkeit, Selbstwirksamkeit und Zufriedenheit im Alltag.\n\nhttps://eventfrog.ch/de/p/gesundheit-spiritualitaet/gesundheit-wohlbefinden/glueck-seminar-7442144500942641779.html
LOCATION:ASB-Schulen Bayern gGmbH
GEO:49.509250;11.288377
URL:https://eventfrog.ch/de/p/gesundheit-spiritualitaet/gesundheit-wohlbefinden/glueck-seminar-7442144500942641779.html
END:VEVENT
BEGIN:VEVENT
UID:20260425T120924Z-7442144881928078303@eventfrog.ch
DTSTAMP:20260425T120924Z
DTSTART:20260924T070000Z
DTEND:20260924T140000Z
SUMMARY:GLÜCK Seminar
DESCRIPTION:Dieses Seminar zeigt, was wirklich glücklich macht: Erkenntnisse der Glücksforschung und praktische Übungen stärken Achtsamkeit, Selbstwirksamkeit und Zufriedenheit im Alltag.\n\nhttps://eventfrog.ch/de/p/gesundheit-spiritualitaet/gesundheit-wohlbefinden/glueck-seminar-7442144881928078303.html
LOCATION:ASB-Schulen Bayern gGmbH
GEO:49.509250;11.288377
URL:https://eventfrog.ch/de/p/gesundheit-spiritualitaet/gesundheit-wohlbefinden/glueck-seminar-7442144881928078303.html
END:VEVENT
BEGIN:VEVENT
UID:20260425T120924Z-7442144882020353516@eventfrog.ch
DTSTAMP:20260425T120924Z
DTSTART:20261113T080000Z
DTEND:20261113T150000Z
SUMMARY:GLÜCK Seminar
DESCRIPTION:Dieses Seminar zeigt, was wirklich glücklich macht: Erkenntnisse der Glücksforschung und praktische Übungen stärken Achtsamkeit, Selbstwirksamkeit und Zufriedenheit im Alltag.\n\nhttps://eventfrog.ch/de/p/gesundheit-spiritualitaet/gesundheit-wohlbefinden/glueck-seminar-7442144882020353516.html
LOCATION:ASB-Schulen Bayern gGmbH
GEO:49.509250;11.288377
URL:https://eventfrog.ch/de/p/gesundheit-spiritualitaet/gesundheit-wohlbefinden/glueck-seminar-7442144882020353516.html
END:VEVENT
END:VCALENDAR