BEGIN:VCALENDAR
VERSION:2.0
PRODID:EVENTFROG//EVENTGROUP//ICAL
BEGIN:VEVENT
UID:20260424T220107Z-7447846140832145938@eventfrog.ch
DTSTAMP:20260424T220107Z
DTSTART:20261001T180000Z
SUMMARY:Fabio Landert - Die verbotene Frucht
DESCRIPTION:Sind Sie bereit, sich fallen zu lassen und die verbotene Frucht zu kosten?\n\n\nhttps://eventfrog.ch/de/p/theater-buehne/comedy-kabarett/fabio-landert-die-verbotene-frucht-7447846140832145938.html
LOCATION:Theater Fauteuil - Tabourettli
GEO:47.557349;7.586407
URL:https://eventfrog.ch/de/p/theater-buehne/comedy-kabarett/fabio-landert-die-verbotene-frucht-7447846140832145938.html
END:VEVENT
BEGIN:VEVENT
UID:20260424T220107Z-7447846197291676838@eventfrog.ch
DTSTAMP:20260424T220107Z
DTSTART:20261002T180000Z
SUMMARY:Fabio Landert - Die verbotene Frucht
DESCRIPTION:Sind Sie bereit, sich fallen zu lassen und die verbotene Frucht zu kosten?\n\n\nhttps://eventfrog.ch/de/p/theater-buehne/comedy-kabarett/fabio-landert-die-verbotene-frucht-7447846197291676838.html
LOCATION:Theater Fauteuil - Tabourettli
GEO:47.557349;7.586407
URL:https://eventfrog.ch/de/p/theater-buehne/comedy-kabarett/fabio-landert-die-verbotene-frucht-7447846197291676838.html
END:VEVENT
BEGIN:VEVENT
UID:20260424T220107Z-7447846197434283400@eventfrog.ch
DTSTAMP:20260424T220107Z
DTSTART:20261003T180000Z
SUMMARY:Fabio Landert - Die verbotene Frucht
DESCRIPTION:Sind Sie bereit, sich fallen zu lassen und die verbotene Frucht zu kosten?\n\n\nhttps://eventfrog.ch/de/p/theater-buehne/comedy-kabarett/fabio-landert-die-verbotene-frucht-7447846197434283400.html
LOCATION:Theater Fauteuil - Tabourettli
GEO:47.557349;7.586407
URL:https://eventfrog.ch/de/p/theater-buehne/comedy-kabarett/fabio-landert-die-verbotene-frucht-7447846197434283400.html
END:VEVENT
END:VCALENDAR