BEGIN:VCALENDAR
VERSION:2.0
PRODID:EVENTFROG//EVENTGROUP//ICAL
BEGIN:VEVENT
UID:20260425T004216Z-7448295213540347097@eventfrog.ch
DTSTAMP:20260425T004216Z
DTSTART:20260426T083000Z
DTEND:20260426T103000Z
SUMMARY:TOUCH MY SOUL – PATRIZIA CASAGRANDA
DESCRIPTION:Patrizia Casagranda präsentiert vom 19.4. bis 12.7.2026 Werke zu Empowerment und Diversity in einer vielschichtigen Ausstellung.\n\nhttps://eventfrog.ch/de/p/kunst-ausstellungen/ausstellung/touch-my-soul-patrizia-casagranda-7448295213540347097.html
LOCATION:Galerie Kley
GEO:51.654380;7.837530
URL:https://eventfrog.ch/de/p/kunst-ausstellungen/ausstellung/touch-my-soul-patrizia-casagranda-7448295213540347097.html
END:VEVENT
BEGIN:VEVENT
UID:20260425T004216Z-7448295240849462796@eventfrog.ch
DTSTAMP:20260425T004216Z
DTSTART:20260426T083000Z
DTEND:20260426T103000Z
SUMMARY:TOUCH MY SOUL – PATRIZIA CASAGRANDA
DESCRIPTION:Patrizia Casagranda präsentiert vom 19.4. bis 12.7.2026 Werke zu Empowerment und Diversity in einer vielschichtigen Ausstellung.\n\nhttps://eventfrog.ch/de/p/kunst-ausstellungen/ausstellung/touch-my-soul-patrizia-casagranda-7448295240849462796.html
LOCATION:Galerie Kley
GEO:51.654380;7.837530
URL:https://eventfrog.ch/de/p/kunst-ausstellungen/ausstellung/touch-my-soul-patrizia-casagranda-7448295240849462796.html
END:VEVENT
BEGIN:VEVENT
UID:20260425T004216Z-7448295240996264062@eventfrog.ch
DTSTAMP:20260425T004216Z
DTSTART:20260503T083000Z
DTEND:20260503T103000Z
SUMMARY:TOUCH MY SOUL – PATRIZIA CASAGRANDA
DESCRIPTION:Patrizia Casagranda präsentiert vom 19.4. bis 12.7.2026 Werke zu Empowerment und Diversity in einer vielschichtigen Ausstellung.\n\nhttps://eventfrog.ch/de/p/kunst-ausstellungen/ausstellung/touch-my-soul-patrizia-casagranda-7448295240996264062.html
LOCATION:Galerie Kley
GEO:51.654380;7.837530
URL:https://eventfrog.ch/de/p/kunst-ausstellungen/ausstellung/touch-my-soul-patrizia-casagranda-7448295240996264062.html
END:VEVENT
BEGIN:VEVENT
UID:20260425T004216Z-7448295241176619164@eventfrog.ch
DTSTAMP:20260425T004216Z
DTSTART:20260510T083000Z
DTEND:20260510T103000Z
SUMMARY:TOUCH MY SOUL – PATRIZIA CASAGRANDA
DESCRIPTION:Patrizia Casagranda präsentiert vom 19.4. bis 12.7.2026 Werke zu Empowerment und Diversity in einer vielschichtigen Ausstellung.\n\nhttps://eventfrog.ch/de/p/kunst-ausstellungen/ausstellung/touch-my-soul-patrizia-casagranda-7448295241176619164.html
LOCATION:Galerie Kley
GEO:51.654380;7.837530
URL:https://eventfrog.ch/de/p/kunst-ausstellungen/ausstellung/touch-my-soul-patrizia-casagranda-7448295241176619164.html
END:VEVENT
BEGIN:VEVENT
UID:20260425T004216Z-7448295241310836932@eventfrog.ch
DTSTAMP:20260425T004216Z
DTSTART:20260517T083000Z
DTEND:20260517T103000Z
SUMMARY:TOUCH MY SOUL – PATRIZIA CASAGRANDA
DESCRIPTION:Patrizia Casagranda präsentiert vom 19.4. bis 12.7.2026 Werke zu Empowerment und Diversity in einer vielschichtigen Ausstellung.\n\nhttps://eventfrog.ch/de/p/kunst-ausstellungen/ausstellung/touch-my-soul-patrizia-casagranda-7448295241310836932.html
LOCATION:Galerie Kley
GEO:51.654380;7.837530
URL:https://eventfrog.ch/de/p/kunst-ausstellungen/ausstellung/touch-my-soul-patrizia-casagranda-7448295241310836932.html
END:VEVENT
BEGIN:VEVENT
UID:20260425T004216Z-7448295241449249005@eventfrog.ch
DTSTAMP:20260425T004216Z
DTSTART:20260524T083000Z
DTEND:20260524T103000Z
SUMMARY:TOUCH MY SOUL – PATRIZIA CASAGRANDA
DESCRIPTION:Patrizia Casagranda präsentiert vom 19.4. bis 12.7.2026 Werke zu Empowerment und Diversity in einer vielschichtigen Ausstellung.\n\nhttps://eventfrog.ch/de/p/kunst-ausstellungen/ausstellung/touch-my-soul-patrizia-casagranda-7448295241449249005.html
LOCATION:Galerie Kley
GEO:51.654380;7.837530
URL:https://eventfrog.ch/de/p/kunst-ausstellungen/ausstellung/touch-my-soul-patrizia-casagranda-7448295241449249005.html
END:VEVENT
BEGIN:VEVENT
UID:20260425T004216Z-7448295241608632564@eventfrog.ch
DTSTAMP:20260425T004216Z
DTSTART:20260531T083000Z
DTEND:20260531T103000Z
SUMMARY:TOUCH MY SOUL – PATRIZIA CASAGRANDA
DESCRIPTION:Patrizia Casagranda präsentiert vom 19.4. bis 12.7.2026 Werke zu Empowerment und Diversity in einer vielschichtigen Ausstellung.\n\nhttps://eventfrog.ch/de/p/kunst-ausstellungen/ausstellung/touch-my-soul-patrizia-casagranda-7448295241608632564.html
LOCATION:Galerie Kley
GEO:51.654380;7.837530
URL:https://eventfrog.ch/de/p/kunst-ausstellungen/ausstellung/touch-my-soul-patrizia-casagranda-7448295241608632564.html
END:VEVENT
BEGIN:VEVENT
UID:20260425T004216Z-7448295241772210422@eventfrog.ch
DTSTAMP:20260425T004216Z
DTSTART:20260607T083000Z
DTEND:20260607T103000Z
SUMMARY:TOUCH MY SOUL – PATRIZIA CASAGRANDA
DESCRIPTION:Patrizia Casagranda präsentiert vom 19.4. bis 12.7.2026 Werke zu Empowerment und Diversity in einer vielschichtigen Ausstellung.\n\nhttps://eventfrog.ch/de/p/kunst-ausstellungen/ausstellung/touch-my-soul-patrizia-casagranda-7448295241772210422.html
LOCATION:Galerie Kley
GEO:51.654380;7.837530
URL:https://eventfrog.ch/de/p/kunst-ausstellungen/ausstellung/touch-my-soul-patrizia-casagranda-7448295241772210422.html
END:VEVENT
BEGIN:VEVENT
UID:20260425T004216Z-7448295241944176962@eventfrog.ch
DTSTAMP:20260425T004216Z
DTSTART:20260614T083000Z
DTEND:20260614T103000Z
SUMMARY:TOUCH MY SOUL – PATRIZIA CASAGRANDA
DESCRIPTION:Patrizia Casagranda präsentiert vom 19.4. bis 12.7.2026 Werke zu Empowerment und Diversity in einer vielschichtigen Ausstellung.\n\nhttps://eventfrog.ch/de/p/kunst-ausstellungen/ausstellung/touch-my-soul-patrizia-casagranda-7448295241944176962.html
LOCATION:Galerie Kley
GEO:51.654380;7.837530
URL:https://eventfrog.ch/de/p/kunst-ausstellungen/ausstellung/touch-my-soul-patrizia-casagranda-7448295241944176962.html
END:VEVENT
BEGIN:VEVENT
UID:20260425T004216Z-7448295242074200388@eventfrog.ch
DTSTAMP:20260425T004216Z
DTSTART:20260621T083000Z
DTEND:20260621T103000Z
SUMMARY:TOUCH MY SOUL – PATRIZIA CASAGRANDA
DESCRIPTION:Patrizia Casagranda präsentiert vom 19.4. bis 12.7.2026 Werke zu Empowerment und Diversity in einer vielschichtigen Ausstellung.\n\nhttps://eventfrog.ch/de/p/kunst-ausstellungen/ausstellung/touch-my-soul-patrizia-casagranda-7448295242074200388.html
LOCATION:Galerie Kley
GEO:51.654380;7.837530
URL:https://eventfrog.ch/de/p/kunst-ausstellungen/ausstellung/touch-my-soul-patrizia-casagranda-7448295242074200388.html
END:VEVENT
BEGIN:VEVENT
UID:20260425T004216Z-7448295242233583968@eventfrog.ch
DTSTAMP:20260425T004216Z
DTSTART:20260628T083000Z
DTEND:20260628T103000Z
SUMMARY:TOUCH MY SOUL – PATRIZIA CASAGRANDA
DESCRIPTION:Patrizia Casagranda präsentiert vom 19.4. bis 12.7.2026 Werke zu Empowerment und Diversity in einer vielschichtigen Ausstellung.\n\nhttps://eventfrog.ch/de/p/kunst-ausstellungen/ausstellung/touch-my-soul-patrizia-casagranda-7448295242233583968.html
LOCATION:Galerie Kley
GEO:51.654380;7.837530
URL:https://eventfrog.ch/de/p/kunst-ausstellungen/ausstellung/touch-my-soul-patrizia-casagranda-7448295242233583968.html
END:VEVENT
BEGIN:VEVENT
UID:20260425T004216Z-7448295242418133347@eventfrog.ch
DTSTAMP:20260425T004216Z
DTSTART:20260705T083000Z
DTEND:20260705T103000Z
SUMMARY:TOUCH MY SOUL – PATRIZIA CASAGRANDA
DESCRIPTION:Patrizia Casagranda präsentiert vom 19.4. bis 12.7.2026 Werke zu Empowerment und Diversity in einer vielschichtigen Ausstellung.\n\nhttps://eventfrog.ch/de/p/kunst-ausstellungen/ausstellung/touch-my-soul-patrizia-casagranda-7448295242418133347.html
LOCATION:Galerie Kley
GEO:51.654380;7.837530
URL:https://eventfrog.ch/de/p/kunst-ausstellungen/ausstellung/touch-my-soul-patrizia-casagranda-7448295242418133347.html
END:VEVENT
BEGIN:VEVENT
UID:20260425T004216Z-7448295242590099834@eventfrog.ch
DTSTAMP:20260425T004216Z
DTSTART:20260712T083000Z
DTEND:20260712T103000Z
SUMMARY:TOUCH MY SOUL – PATRIZIA CASAGRANDA
DESCRIPTION:Patrizia Casagranda präsentiert vom 19.4. bis 12.7.2026 Werke zu Empowerment und Diversity in einer vielschichtigen Ausstellung.\n\nhttps://eventfrog.ch/de/p/kunst-ausstellungen/ausstellung/touch-my-soul-patrizia-casagranda-7448295242590099834.html
LOCATION:Galerie Kley
GEO:51.654380;7.837530
URL:https://eventfrog.ch/de/p/kunst-ausstellungen/ausstellung/touch-my-soul-patrizia-casagranda-7448295242590099834.html
END:VEVENT
END:VCALENDAR