BEGIN:VCALENDAR
VERSION:2.0
PRODID:EVENTFROG//EVENTGROUP//ICAL
BEGIN:VEVENT
UID:20260424T094230Z-7448377160505492468@eventfrog.ch
DTSTAMP:20260424T094230Z
DTSTART:20260613T190000Z
DTEND:20260613T230000Z
SUMMARY:Public Viewing- Fussball WM 2026- Schweizer Spiele
DESCRIPTION:Alle Schweizer WM-Spiele live in der Rythalle Solothurn ab 13. Juni, Türöffnung 18.30 Uhr, grosses Public Viewing mit Bar und Fan-Kiosk.\n\nhttps://eventfrog.ch/de/p/diverses/public-viewing-fussball-wm-2026-schweizer-spiele-7448377160505492468.html
LOCATION:Rythalle Solothurn
GEO:47.209534;7.540494
URL:https://eventfrog.ch/de/p/diverses/public-viewing-fussball-wm-2026-schweizer-spiele-7448377160505492468.html
END:VEVENT
BEGIN:VEVENT
UID:20260424T094230Z-7448379011456055738@eventfrog.ch
DTSTAMP:20260424T094230Z
DTSTART:20260618T190000Z
DTEND:20260618T230000Z
SUMMARY:Public Viewing- Fussball WM 2026- Schweizer Spiele
DESCRIPTION:Alle Schweizer WM-Spiele live in der Rythalle Solothurn ab 13. Juni, Türöffnung 18.30 Uhr, grosses Public Viewing mit Bar und Fan-Kiosk.\n\nhttps://eventfrog.ch/de/p/diverses/public-viewing-fussball-wm-2026-schweizer-spiele-7448379011456055738.html
LOCATION:Rythalle Solothurn
GEO:47.209534;7.540494
URL:https://eventfrog.ch/de/p/diverses/public-viewing-fussball-wm-2026-schweizer-spiele-7448379011456055738.html
END:VEVENT
BEGIN:VEVENT
UID:20260424T094230Z-7448379011552525255@eventfrog.ch
DTSTAMP:20260424T094230Z
DTSTART:20260624T190000Z
DTEND:20260624T230000Z
SUMMARY:Public Viewing- Fussball WM 2026- Schweizer Spiele
DESCRIPTION:Alle Schweizer WM-Spiele live in der Rythalle Solothurn ab 13. Juni, Türöffnung 18.30 Uhr, grosses Public Viewing mit Bar und Fan-Kiosk.\n\nhttps://eventfrog.ch/de/p/diverses/public-viewing-fussball-wm-2026-schweizer-spiele-7448379011552525255.html
LOCATION:Rythalle Solothurn
GEO:47.209534;7.540494
URL:https://eventfrog.ch/de/p/diverses/public-viewing-fussball-wm-2026-schweizer-spiele-7448379011552525255.html
END:VEVENT
END:VCALENDAR