BEGIN:VCALENDAR
VERSION:2.0
PRODID:EVENTFROG//EVENTGROUP//ICAL
BEGIN:VEVENT
UID:20260424T081844Z-7449743237177188409@eventfrog.ch
DTSTAMP:20260424T081844Z
DTSTART:20260512T113000Z
DTEND:20260512T160000Z
SUMMARY:Café Rosengarten
DESCRIPTION:Café Rosengarten geöffnet ab 12. Mai bis 24. September jeweils Dienstag und Donnerstag ab 13:30 bis 18:00 bei trockener Witterung.\n\nhttps://eventfrog.ch/de/p/essen-trinken/cafe-rosengarten-7449743237177188409.html
LOCATION:Café Rosengarten
GEO:47.289970;7.950597
URL:https://eventfrog.ch/de/p/essen-trinken/cafe-rosengarten-7449743237177188409.html
END:VEVENT
BEGIN:VEVENT
UID:20260424T081844Z-7449743237240102972@eventfrog.ch
DTSTAMP:20260424T081844Z
DTSTART:20260514T113000Z
DTEND:20260514T160000Z
SUMMARY:Café Rosengarten
DESCRIPTION:Café Rosengarten geöffnet ab 12. Mai bis 24. September jeweils Dienstag und Donnerstag ab 13:30 bis 18:00 bei trockener Witterung.\n\nhttps://eventfrog.ch/de/p/essen-trinken/cafe-rosengarten-7449743237240102972.html
LOCATION:Café Rosengarten
GEO:47.289970;7.950597
URL:https://eventfrog.ch/de/p/essen-trinken/cafe-rosengarten-7449743237240102972.html
END:VEVENT
BEGIN:VEVENT
UID:20260424T081844Z-7449743237298823230@eventfrog.ch
DTSTAMP:20260424T081844Z
DTSTART:20260519T113000Z
DTEND:20260519T160000Z
SUMMARY:Café Rosengarten
DESCRIPTION:Café Rosengarten geöffnet ab 12. Mai bis 24. September jeweils Dienstag und Donnerstag ab 13:30 bis 18:00 bei trockener Witterung.\n\nhttps://eventfrog.ch/de/p/essen-trinken/cafe-rosengarten-7449743237298823230.html
LOCATION:Café Rosengarten
GEO:47.289970;7.950597
URL:https://eventfrog.ch/de/p/essen-trinken/cafe-rosengarten-7449743237298823230.html
END:VEVENT
BEGIN:VEVENT
UID:20260424T081844Z-7449743237361737793@eventfrog.ch
DTSTAMP:20260424T081844Z
DTSTART:20260521T113000Z
DTEND:20260521T160000Z
SUMMARY:Café Rosengarten
DESCRIPTION:Café Rosengarten geöffnet ab 12. Mai bis 24. September jeweils Dienstag und Donnerstag ab 13:30 bis 18:00 bei trockener Witterung.\n\nhttps://eventfrog.ch/de/p/essen-trinken/cafe-rosengarten-7449743237361737793.html
LOCATION:Café Rosengarten
GEO:47.289970;7.950597
URL:https://eventfrog.ch/de/p/essen-trinken/cafe-rosengarten-7449743237361737793.html
END:VEVENT
BEGIN:VEVENT
UID:20260424T081844Z-7449743237420458051@eventfrog.ch
DTSTAMP:20260424T081844Z
DTSTART:20260526T113000Z
DTEND:20260526T160000Z
SUMMARY:Café Rosengarten
DESCRIPTION:Café Rosengarten geöffnet ab 12. Mai bis 24. September jeweils Dienstag und Donnerstag ab 13:30 bis 18:00 bei trockener Witterung.\n\nhttps://eventfrog.ch/de/p/essen-trinken/cafe-rosengarten-7449743237420458051.html
LOCATION:Café Rosengarten
GEO:47.289970;7.950597
URL:https://eventfrog.ch/de/p/essen-trinken/cafe-rosengarten-7449743237420458051.html
END:VEVENT
BEGIN:VEVENT
UID:20260424T081844Z-7449743237479178309@eventfrog.ch
DTSTAMP:20260424T081844Z
DTSTART:20260528T113000Z
DTEND:20260528T160000Z
SUMMARY:Café Rosengarten
DESCRIPTION:Café Rosengarten geöffnet ab 12. Mai bis 24. September jeweils Dienstag und Donnerstag ab 13:30 bis 18:00 bei trockener Witterung.\n\nhttps://eventfrog.ch/de/p/essen-trinken/cafe-rosengarten-7449743237479178309.html
LOCATION:Café Rosengarten
GEO:47.289970;7.950597
URL:https://eventfrog.ch/de/p/essen-trinken/cafe-rosengarten-7449743237479178309.html
END:VEVENT
BEGIN:VEVENT
UID:20260424T081844Z-7449743237542092872@eventfrog.ch
DTSTAMP:20260424T081844Z
DTSTART:20260602T113000Z
DTEND:20260602T160000Z
SUMMARY:Café Rosengarten
DESCRIPTION:Café Rosengarten geöffnet ab 12. Mai bis 24. September jeweils Dienstag und Donnerstag ab 13:30 bis 18:00 bei trockener Witterung.\n\nhttps://eventfrog.ch/de/p/essen-trinken/cafe-rosengarten-7449743237542092872.html
LOCATION:Café Rosengarten
GEO:47.289970;7.950597
URL:https://eventfrog.ch/de/p/essen-trinken/cafe-rosengarten-7449743237542092872.html
END:VEVENT
BEGIN:VEVENT
UID:20260424T081844Z-7449743237600813141@eventfrog.ch
DTSTAMP:20260424T081844Z
DTSTART:20260604T113000Z
DTEND:20260604T160000Z
SUMMARY:Café Rosengarten
DESCRIPTION:Café Rosengarten geöffnet ab 12. Mai bis 24. September jeweils Dienstag und Donnerstag ab 13:30 bis 18:00 bei trockener Witterung.\n\nhttps://eventfrog.ch/de/p/essen-trinken/cafe-rosengarten-7449743237600813141.html
LOCATION:Café Rosengarten
GEO:47.289970;7.950597
URL:https://eventfrog.ch/de/p/essen-trinken/cafe-rosengarten-7449743237600813141.html
END:VEVENT
BEGIN:VEVENT
UID:20260424T081844Z-7449743237659533399@eventfrog.ch
DTSTAMP:20260424T081844Z
DTSTART:20260609T113000Z
DTEND:20260609T160000Z
SUMMARY:Café Rosengarten
DESCRIPTION:Café Rosengarten geöffnet ab 12. Mai bis 24. September jeweils Dienstag und Donnerstag ab 13:30 bis 18:00 bei trockener Witterung.\n\nhttps://eventfrog.ch/de/p/essen-trinken/cafe-rosengarten-7449743237659533399.html
LOCATION:Café Rosengarten
GEO:47.289970;7.950597
URL:https://eventfrog.ch/de/p/essen-trinken/cafe-rosengarten-7449743237659533399.html
END:VEVENT
BEGIN:VEVENT
UID:20260424T081844Z-7449743237718253657@eventfrog.ch
DTSTAMP:20260424T081844Z
DTSTART:20260611T113000Z
DTEND:20260611T160000Z
SUMMARY:Café Rosengarten
DESCRIPTION:Café Rosengarten geöffnet ab 12. Mai bis 24. September jeweils Dienstag und Donnerstag ab 13:30 bis 18:00 bei trockener Witterung.\n\nhttps://eventfrog.ch/de/p/essen-trinken/cafe-rosengarten-7449743237718253657.html
LOCATION:Café Rosengarten
GEO:47.289970;7.950597
URL:https://eventfrog.ch/de/p/essen-trinken/cafe-rosengarten-7449743237718253657.html
END:VEVENT
BEGIN:VEVENT
UID:20260424T081844Z-7449743237776973915@eventfrog.ch
DTSTAMP:20260424T081844Z
DTSTART:20260616T113000Z
DTEND:20260616T160000Z
SUMMARY:Café Rosengarten
DESCRIPTION:Café Rosengarten geöffnet ab 12. Mai bis 24. September jeweils Dienstag und Donnerstag ab 13:30 bis 18:00 bei trockener Witterung.\n\nhttps://eventfrog.ch/de/p/essen-trinken/cafe-rosengarten-7449743237776973915.html
LOCATION:Café Rosengarten
GEO:47.289970;7.950597
URL:https://eventfrog.ch/de/p/essen-trinken/cafe-rosengarten-7449743237776973915.html
END:VEVENT
BEGIN:VEVENT
UID:20260424T081844Z-7449743237852471389@eventfrog.ch
DTSTAMP:20260424T081844Z
DTSTART:20260618T113000Z
DTEND:20260618T160000Z
SUMMARY:Café Rosengarten
DESCRIPTION:Café Rosengarten geöffnet ab 12. Mai bis 24. September jeweils Dienstag und Donnerstag ab 13:30 bis 18:00 bei trockener Witterung.\n\nhttps://eventfrog.ch/de/p/essen-trinken/cafe-rosengarten-7449743237852471389.html
LOCATION:Café Rosengarten
GEO:47.289970;7.950597
URL:https://eventfrog.ch/de/p/essen-trinken/cafe-rosengarten-7449743237852471389.html
END:VEVENT
BEGIN:VEVENT
UID:20260424T081844Z-7449743237911191647@eventfrog.ch
DTSTAMP:20260424T081844Z
DTSTART:20260623T113000Z
DTEND:20260623T160000Z
SUMMARY:Café Rosengarten
DESCRIPTION:Café Rosengarten geöffnet ab 12. Mai bis 24. September jeweils Dienstag und Donnerstag ab 13:30 bis 18:00 bei trockener Witterung.\n\nhttps://eventfrog.ch/de/p/essen-trinken/cafe-rosengarten-7449743237911191647.html
LOCATION:Café Rosengarten
GEO:47.289970;7.950597
URL:https://eventfrog.ch/de/p/essen-trinken/cafe-rosengarten-7449743237911191647.html
END:VEVENT
BEGIN:VEVENT
UID:20260424T081844Z-7449743237974106209@eventfrog.ch
DTSTAMP:20260424T081844Z
DTSTART:20260625T113000Z
DTEND:20260625T160000Z
SUMMARY:Café Rosengarten
DESCRIPTION:Café Rosengarten geöffnet ab 12. Mai bis 24. September jeweils Dienstag und Donnerstag ab 13:30 bis 18:00 bei trockener Witterung.\n\nhttps://eventfrog.ch/de/p/essen-trinken/cafe-rosengarten-7449743237974106209.html
LOCATION:Café Rosengarten
GEO:47.289970;7.950597
URL:https://eventfrog.ch/de/p/essen-trinken/cafe-rosengarten-7449743237974106209.html
END:VEVENT
BEGIN:VEVENT
UID:20260424T081844Z-7449743238032826467@eventfrog.ch
DTSTAMP:20260424T081844Z
DTSTART:20260630T113000Z
DTEND:20260630T160000Z
SUMMARY:Café Rosengarten
DESCRIPTION:Café Rosengarten geöffnet ab 12. Mai bis 24. September jeweils Dienstag und Donnerstag ab 13:30 bis 18:00 bei trockener Witterung.\n\nhttps://eventfrog.ch/de/p/essen-trinken/cafe-rosengarten-7449743238032826467.html
LOCATION:Café Rosengarten
GEO:47.289970;7.950597
URL:https://eventfrog.ch/de/p/essen-trinken/cafe-rosengarten-7449743238032826467.html
END:VEVENT
BEGIN:VEVENT
UID:20260424T081844Z-7449743238091546725@eventfrog.ch
DTSTAMP:20260424T081844Z
DTSTART:20260702T113000Z
DTEND:20260702T160000Z
SUMMARY:Café Rosengarten
DESCRIPTION:Café Rosengarten geöffnet ab 12. Mai bis 24. September jeweils Dienstag und Donnerstag ab 13:30 bis 18:00 bei trockener Witterung.\n\nhttps://eventfrog.ch/de/p/essen-trinken/cafe-rosengarten-7449743238091546725.html
LOCATION:Café Rosengarten
GEO:47.289970;7.950597
URL:https://eventfrog.ch/de/p/essen-trinken/cafe-rosengarten-7449743238091546725.html
END:VEVENT
BEGIN:VEVENT
UID:20260424T081844Z-7449743238154461288@eventfrog.ch
DTSTAMP:20260424T081844Z
DTSTART:20260707T113000Z
DTEND:20260707T160000Z
SUMMARY:Café Rosengarten
DESCRIPTION:Café Rosengarten geöffnet ab 12. Mai bis 24. September jeweils Dienstag und Donnerstag ab 13:30 bis 18:00 bei trockener Witterung.\n\nhttps://eventfrog.ch/de/p/essen-trinken/cafe-rosengarten-7449743238154461288.html
LOCATION:Café Rosengarten
GEO:47.289970;7.950597
URL:https://eventfrog.ch/de/p/essen-trinken/cafe-rosengarten-7449743238154461288.html
END:VEVENT
BEGIN:VEVENT
UID:20260424T081844Z-7449743238213181546@eventfrog.ch
DTSTAMP:20260424T081844Z
DTSTART:20260709T113000Z
DTEND:20260709T160000Z
SUMMARY:Café Rosengarten
DESCRIPTION:Café Rosengarten geöffnet ab 12. Mai bis 24. September jeweils Dienstag und Donnerstag ab 13:30 bis 18:00 bei trockener Witterung.\n\nhttps://eventfrog.ch/de/p/essen-trinken/cafe-rosengarten-7449743238213181546.html
LOCATION:Café Rosengarten
GEO:47.289970;7.950597
URL:https://eventfrog.ch/de/p/essen-trinken/cafe-rosengarten-7449743238213181546.html
END:VEVENT
BEGIN:VEVENT
UID:20260424T081844Z-7449743238276096109@eventfrog.ch
DTSTAMP:20260424T081844Z
DTSTART:20260714T113000Z
DTEND:20260714T160000Z
SUMMARY:Café Rosengarten
DESCRIPTION:Café Rosengarten geöffnet ab 12. Mai bis 24. September jeweils Dienstag und Donnerstag ab 13:30 bis 18:00 bei trockener Witterung.\n\nhttps://eventfrog.ch/de/p/essen-trinken/cafe-rosengarten-7449743238276096109.html
LOCATION:Café Rosengarten
GEO:47.289970;7.950597
URL:https://eventfrog.ch/de/p/essen-trinken/cafe-rosengarten-7449743238276096109.html
END:VEVENT
BEGIN:VEVENT
UID:20260424T081844Z-7449743238364176495@eventfrog.ch
DTSTAMP:20260424T081844Z
DTSTART:20260716T113000Z
DTEND:20260716T160000Z
SUMMARY:Café Rosengarten
DESCRIPTION:Café Rosengarten geöffnet ab 12. Mai bis 24. September jeweils Dienstag und Donnerstag ab 13:30 bis 18:00 bei trockener Witterung.\n\nhttps://eventfrog.ch/de/p/essen-trinken/cafe-rosengarten-7449743238364176495.html
LOCATION:Café Rosengarten
GEO:47.289970;7.950597
URL:https://eventfrog.ch/de/p/essen-trinken/cafe-rosengarten-7449743238364176495.html
END:VEVENT
BEGIN:VEVENT
UID:20260424T081844Z-7449743238427091057@eventfrog.ch
DTSTAMP:20260424T081844Z
DTSTART:20260721T113000Z
DTEND:20260721T160000Z
SUMMARY:Café Rosengarten
DESCRIPTION:Café Rosengarten geöffnet ab 12. Mai bis 24. September jeweils Dienstag und Donnerstag ab 13:30 bis 18:00 bei trockener Witterung.\n\nhttps://eventfrog.ch/de/p/essen-trinken/cafe-rosengarten-7449743238427091057.html
LOCATION:Café Rosengarten
GEO:47.289970;7.950597
URL:https://eventfrog.ch/de/p/essen-trinken/cafe-rosengarten-7449743238427091057.html
END:VEVENT
BEGIN:VEVENT
UID:20260424T081844Z-7449743238485811315@eventfrog.ch
DTSTAMP:20260424T081844Z
DTSTART:20260723T113000Z
DTEND:20260723T160000Z
SUMMARY:Café Rosengarten
DESCRIPTION:Café Rosengarten geöffnet ab 12. Mai bis 24. September jeweils Dienstag und Donnerstag ab 13:30 bis 18:00 bei trockener Witterung.\n\nhttps://eventfrog.ch/de/p/essen-trinken/cafe-rosengarten-7449743238485811315.html
LOCATION:Café Rosengarten
GEO:47.289970;7.950597
URL:https://eventfrog.ch/de/p/essen-trinken/cafe-rosengarten-7449743238485811315.html
END:VEVENT
BEGIN:VEVENT
UID:20260424T081844Z-7449743238544531573@eventfrog.ch
DTSTAMP:20260424T081844Z
DTSTART:20260728T113000Z
DTEND:20260728T160000Z
SUMMARY:Café Rosengarten
DESCRIPTION:Café Rosengarten geöffnet ab 12. Mai bis 24. September jeweils Dienstag und Donnerstag ab 13:30 bis 18:00 bei trockener Witterung.\n\nhttps://eventfrog.ch/de/p/essen-trinken/cafe-rosengarten-7449743238544531573.html
LOCATION:Café Rosengarten
GEO:47.289970;7.950597
URL:https://eventfrog.ch/de/p/essen-trinken/cafe-rosengarten-7449743238544531573.html
END:VEVENT
BEGIN:VEVENT
UID:20260424T081844Z-7449743238603251831@eventfrog.ch
DTSTAMP:20260424T081844Z
DTSTART:20260730T113000Z
DTEND:20260730T160000Z
SUMMARY:Café Rosengarten
DESCRIPTION:Café Rosengarten geöffnet ab 12. Mai bis 24. September jeweils Dienstag und Donnerstag ab 13:30 bis 18:00 bei trockener Witterung.\n\nhttps://eventfrog.ch/de/p/essen-trinken/cafe-rosengarten-7449743238603251831.html
LOCATION:Café Rosengarten
GEO:47.289970;7.950597
URL:https://eventfrog.ch/de/p/essen-trinken/cafe-rosengarten-7449743238603251831.html
END:VEVENT
BEGIN:VEVENT
UID:20260424T081844Z-7449743238661972089@eventfrog.ch
DTSTAMP:20260424T081844Z
DTSTART:20260804T113000Z
DTEND:20260804T160000Z
SUMMARY:Café Rosengarten
DESCRIPTION:Café Rosengarten geöffnet ab 12. Mai bis 24. September jeweils Dienstag und Donnerstag ab 13:30 bis 18:00 bei trockener Witterung.\n\nhttps://eventfrog.ch/de/p/essen-trinken/cafe-rosengarten-7449743238661972089.html
LOCATION:Café Rosengarten
GEO:47.289970;7.950597
URL:https://eventfrog.ch/de/p/essen-trinken/cafe-rosengarten-7449743238661972089.html
END:VEVENT
BEGIN:VEVENT
UID:20260424T081844Z-7449743238720692347@eventfrog.ch
DTSTAMP:20260424T081844Z
DTSTART:20260806T113000Z
DTEND:20260806T160000Z
SUMMARY:Café Rosengarten
DESCRIPTION:Café Rosengarten geöffnet ab 12. Mai bis 24. September jeweils Dienstag und Donnerstag ab 13:30 bis 18:00 bei trockener Witterung.\n\nhttps://eventfrog.ch/de/p/essen-trinken/cafe-rosengarten-7449743238720692347.html
LOCATION:Café Rosengarten
GEO:47.289970;7.950597
URL:https://eventfrog.ch/de/p/essen-trinken/cafe-rosengarten-7449743238720692347.html
END:VEVENT
BEGIN:VEVENT
UID:20260424T081844Z-7449743238783606909@eventfrog.ch
DTSTAMP:20260424T081844Z
DTSTART:20260811T113000Z
DTEND:20260811T160000Z
SUMMARY:Café Rosengarten
DESCRIPTION:Café Rosengarten geöffnet ab 12. Mai bis 24. September jeweils Dienstag und Donnerstag ab 13:30 bis 18:00 bei trockener Witterung.\n\nhttps://eventfrog.ch/de/p/essen-trinken/cafe-rosengarten-7449743238783606909.html
LOCATION:Café Rosengarten
GEO:47.289970;7.950597
URL:https://eventfrog.ch/de/p/essen-trinken/cafe-rosengarten-7449743238783606909.html
END:VEVENT
BEGIN:VEVENT
UID:20260424T081844Z-7449743238846521472@eventfrog.ch
DTSTAMP:20260424T081844Z
DTSTART:20260813T113000Z
DTEND:20260813T160000Z
SUMMARY:Café Rosengarten
DESCRIPTION:Café Rosengarten geöffnet ab 12. Mai bis 24. September jeweils Dienstag und Donnerstag ab 13:30 bis 18:00 bei trockener Witterung.\n\nhttps://eventfrog.ch/de/p/essen-trinken/cafe-rosengarten-7449743238846521472.html
LOCATION:Café Rosengarten
GEO:47.289970;7.950597
URL:https://eventfrog.ch/de/p/essen-trinken/cafe-rosengarten-7449743238846521472.html
END:VEVENT
BEGIN:VEVENT
UID:20260424T081844Z-7449743238905241731@eventfrog.ch
DTSTAMP:20260424T081844Z
DTSTART:20260818T113000Z
DTEND:20260818T160000Z
SUMMARY:Café Rosengarten
DESCRIPTION:Café Rosengarten geöffnet ab 12. Mai bis 24. September jeweils Dienstag und Donnerstag ab 13:30 bis 18:00 bei trockener Witterung.\n\nhttps://eventfrog.ch/de/p/essen-trinken/cafe-rosengarten-7449743238905241731.html
LOCATION:Café Rosengarten
GEO:47.289970;7.950597
URL:https://eventfrog.ch/de/p/essen-trinken/cafe-rosengarten-7449743238905241731.html
END:VEVENT
BEGIN:VEVENT
UID:20260424T081844Z-7449743238963961989@eventfrog.ch
DTSTAMP:20260424T081844Z
DTSTART:20260820T113000Z
DTEND:20260820T160000Z
SUMMARY:Café Rosengarten
DESCRIPTION:Café Rosengarten geöffnet ab 12. Mai bis 24. September jeweils Dienstag und Donnerstag ab 13:30 bis 18:00 bei trockener Witterung.\n\nhttps://eventfrog.ch/de/p/essen-trinken/cafe-rosengarten-7449743238963961989.html
LOCATION:Café Rosengarten
GEO:47.289970;7.950597
URL:https://eventfrog.ch/de/p/essen-trinken/cafe-rosengarten-7449743238963961989.html
END:VEVENT
BEGIN:VEVENT
UID:20260424T081844Z-7449743239031070855@eventfrog.ch
DTSTAMP:20260424T081844Z
DTSTART:20260825T113000Z
DTEND:20260825T160000Z
SUMMARY:Café Rosengarten
DESCRIPTION:Café Rosengarten geöffnet ab 12. Mai bis 24. September jeweils Dienstag und Donnerstag ab 13:30 bis 18:00 bei trockener Witterung.\n\nhttps://eventfrog.ch/de/p/essen-trinken/cafe-rosengarten-7449743239031070855.html
LOCATION:Café Rosengarten
GEO:47.289970;7.950597
URL:https://eventfrog.ch/de/p/essen-trinken/cafe-rosengarten-7449743239031070855.html
END:VEVENT
BEGIN:VEVENT
UID:20260424T081844Z-7449743239089791113@eventfrog.ch
DTSTAMP:20260424T081844Z
DTSTART:20260827T113000Z
DTEND:20260827T160000Z
SUMMARY:Café Rosengarten
DESCRIPTION:Café Rosengarten geöffnet ab 12. Mai bis 24. September jeweils Dienstag und Donnerstag ab 13:30 bis 18:00 bei trockener Witterung.\n\nhttps://eventfrog.ch/de/p/essen-trinken/cafe-rosengarten-7449743239089791113.html
LOCATION:Café Rosengarten
GEO:47.289970;7.950597
URL:https://eventfrog.ch/de/p/essen-trinken/cafe-rosengarten-7449743239089791113.html
END:VEVENT
BEGIN:VEVENT
UID:20260424T081844Z-7449743239148511371@eventfrog.ch
DTSTAMP:20260424T081844Z
DTSTART:20260901T113000Z
DTEND:20260901T160000Z
SUMMARY:Café Rosengarten
DESCRIPTION:Café Rosengarten geöffnet ab 12. Mai bis 24. September jeweils Dienstag und Donnerstag ab 13:30 bis 18:00 bei trockener Witterung.\n\nhttps://eventfrog.ch/de/p/essen-trinken/cafe-rosengarten-7449743239148511371.html
LOCATION:Café Rosengarten
GEO:47.289970;7.950597
URL:https://eventfrog.ch/de/p/essen-trinken/cafe-rosengarten-7449743239148511371.html
END:VEVENT
BEGIN:VEVENT
UID:20260424T081844Z-7449743239207231629@eventfrog.ch
DTSTAMP:20260424T081844Z
DTSTART:20260903T113000Z
DTEND:20260903T160000Z
SUMMARY:Café Rosengarten
DESCRIPTION:Café Rosengarten geöffnet ab 12. Mai bis 24. September jeweils Dienstag und Donnerstag ab 13:30 bis 18:00 bei trockener Witterung.\n\nhttps://eventfrog.ch/de/p/essen-trinken/cafe-rosengarten-7449743239207231629.html
LOCATION:Café Rosengarten
GEO:47.289970;7.950597
URL:https://eventfrog.ch/de/p/essen-trinken/cafe-rosengarten-7449743239207231629.html
END:VEVENT
BEGIN:VEVENT
UID:20260424T081844Z-7449743239270146191@eventfrog.ch
DTSTAMP:20260424T081844Z
DTSTART:20260908T113000Z
DTEND:20260908T160000Z
SUMMARY:Café Rosengarten
DESCRIPTION:Café Rosengarten geöffnet ab 12. Mai bis 24. September jeweils Dienstag und Donnerstag ab 13:30 bis 18:00 bei trockener Witterung.\n\nhttps://eventfrog.ch/de/p/essen-trinken/cafe-rosengarten-7449743239270146191.html
LOCATION:Café Rosengarten
GEO:47.289970;7.950597
URL:https://eventfrog.ch/de/p/essen-trinken/cafe-rosengarten-7449743239270146191.html
END:VEVENT
BEGIN:VEVENT
UID:20260424T081844Z-7449743239328866449@eventfrog.ch
DTSTAMP:20260424T081844Z
DTSTART:20260910T113000Z
DTEND:20260910T160000Z
SUMMARY:Café Rosengarten
DESCRIPTION:Café Rosengarten geöffnet ab 12. Mai bis 24. September jeweils Dienstag und Donnerstag ab 13:30 bis 18:00 bei trockener Witterung.\n\nhttps://eventfrog.ch/de/p/essen-trinken/cafe-rosengarten-7449743239328866449.html
LOCATION:Café Rosengarten
GEO:47.289970;7.950597
URL:https://eventfrog.ch/de/p/essen-trinken/cafe-rosengarten-7449743239328866449.html
END:VEVENT
BEGIN:VEVENT
UID:20260424T081844Z-7449743239387586707@eventfrog.ch
DTSTAMP:20260424T081844Z
DTSTART:20260915T113000Z
DTEND:20260915T160000Z
SUMMARY:Café Rosengarten
DESCRIPTION:Café Rosengarten geöffnet ab 12. Mai bis 24. September jeweils Dienstag und Donnerstag ab 13:30 bis 18:00 bei trockener Witterung.\n\nhttps://eventfrog.ch/de/p/essen-trinken/cafe-rosengarten-7449743239387586707.html
LOCATION:Café Rosengarten
GEO:47.289970;7.950597
URL:https://eventfrog.ch/de/p/essen-trinken/cafe-rosengarten-7449743239387586707.html
END:VEVENT
BEGIN:VEVENT
UID:20260424T081844Z-7449743239446306965@eventfrog.ch
DTSTAMP:20260424T081844Z
DTSTART:20260917T113000Z
DTEND:20260917T160000Z
SUMMARY:Café Rosengarten
DESCRIPTION:Café Rosengarten geöffnet ab 12. Mai bis 24. September jeweils Dienstag und Donnerstag ab 13:30 bis 18:00 bei trockener Witterung.\n\nhttps://eventfrog.ch/de/p/essen-trinken/cafe-rosengarten-7449743239446306965.html
LOCATION:Café Rosengarten
GEO:47.289970;7.950597
URL:https://eventfrog.ch/de/p/essen-trinken/cafe-rosengarten-7449743239446306965.html
END:VEVENT
BEGIN:VEVENT
UID:20260424T081844Z-7449743239505027223@eventfrog.ch
DTSTAMP:20260424T081844Z
DTSTART:20260922T113000Z
DTEND:20260922T160000Z
SUMMARY:Café Rosengarten
DESCRIPTION:Café Rosengarten geöffnet ab 12. Mai bis 24. September jeweils Dienstag und Donnerstag ab 13:30 bis 18:00 bei trockener Witterung.\n\nhttps://eventfrog.ch/de/p/essen-trinken/cafe-rosengarten-7449743239505027223.html
LOCATION:Café Rosengarten
GEO:47.289970;7.950597
URL:https://eventfrog.ch/de/p/essen-trinken/cafe-rosengarten-7449743239505027223.html
END:VEVENT
BEGIN:VEVENT
UID:20260424T081844Z-7449743239563747481@eventfrog.ch
DTSTAMP:20260424T081844Z
DTSTART:20260924T113000Z
DTEND:20260924T160000Z
SUMMARY:Café Rosengarten
DESCRIPTION:Café Rosengarten geöffnet ab 12. Mai bis 24. September jeweils Dienstag und Donnerstag ab 13:30 bis 18:00 bei trockener Witterung.\n\nhttps://eventfrog.ch/de/p/essen-trinken/cafe-rosengarten-7449743239563747481.html
LOCATION:Café Rosengarten
GEO:47.289970;7.950597
URL:https://eventfrog.ch/de/p/essen-trinken/cafe-rosengarten-7449743239563747481.html
END:VEVENT
END:VCALENDAR