BEGIN:VCALENDAR
VERSION:2.0
PRODID:EVENTFROG//EVENTGROUP//ICAL
BEGIN:VEVENT
UID:20260420T064719Z-7450449725629677331@eventfrog.ch
DTSTAMP:20260420T064719Z
DTSTART:20260426T090000Z
DTEND:20260426T140000Z
SUMMARY:Annemie Lieder - Ausstellung
DESCRIPTION:Die Aargauer Künstlerin Annemie Lieder hat das Auge für Unscheinbares, Nebensächliches. Und rückt das behutsam ins Zentrum ihres Schaffens.  Ihre Kunst ist nicht plakativ, sondern poetisch.\n\nhttps://eventfrog.ch/de/p/kunst-ausstellungen/ausstellung/annemie-lieder-ausstellung-7450449725629677331.html
LOCATION:Kunstforum Sursee
GEO:47.172078;8.109937
URL:https://eventfrog.ch/de/p/kunst-ausstellungen/ausstellung/annemie-lieder-ausstellung-7450449725629677331.html
END:VEVENT
BEGIN:VEVENT
UID:20260420T064719Z-7450449807007566154@eventfrog.ch
DTSTAMP:20260420T064719Z
DTSTART:20260501T130000Z
DTEND:20260501T170000Z
SUMMARY:Annemie Lieder - Ausstellung
DESCRIPTION:Die Aargauer Künstlerin Annemie Lieder hat das Auge für Unscheinbares, Nebensächliches. Und rückt das behutsam ins Zentrum ihres Schaffens.  Ihre Kunst ist nicht plakativ, sondern poetisch.\n\nhttps://eventfrog.ch/de/p/kunst-ausstellungen/ausstellung/annemie-lieder-ausstellung-7450449807007566154.html
LOCATION:Kunstforum Sursee
GEO:47.172078;8.109937
URL:https://eventfrog.ch/de/p/kunst-ausstellungen/ausstellung/annemie-lieder-ausstellung-7450449807007566154.html
END:VEVENT
BEGIN:VEVENT
UID:20260420T064719Z-7450449807070480719@eventfrog.ch
DTSTAMP:20260420T064719Z
DTSTART:20260502T130000Z
DTEND:20260502T170000Z
SUMMARY:Annemie Lieder - Ausstellung
DESCRIPTION:Die Aargauer Künstlerin Annemie Lieder hat das Auge für Unscheinbares, Nebensächliches. Und rückt das behutsam ins Zentrum ihres Schaffens.  Ihre Kunst ist nicht plakativ, sondern poetisch.\n\nhttps://eventfrog.ch/de/p/kunst-ausstellungen/ausstellung/annemie-lieder-ausstellung-7450449807070480719.html
LOCATION:Kunstforum Sursee
GEO:47.172078;8.109937
URL:https://eventfrog.ch/de/p/kunst-ausstellungen/ausstellung/annemie-lieder-ausstellung-7450449807070480719.html
END:VEVENT
BEGIN:VEVENT
UID:20260420T064719Z-7450449807133395286@eventfrog.ch
DTSTAMP:20260420T064719Z
DTSTART:20260503T090000Z
DTEND:20260503T140000Z
SUMMARY:Annemie Lieder - Ausstellung
DESCRIPTION:Die Aargauer Künstlerin Annemie Lieder hat das Auge für Unscheinbares, Nebensächliches. Und rückt das behutsam ins Zentrum ihres Schaffens.  Ihre Kunst ist nicht plakativ, sondern poetisch.\n\nhttps://eventfrog.ch/de/p/kunst-ausstellungen/ausstellung/annemie-lieder-ausstellung-7450449807133395286.html
LOCATION:Kunstforum Sursee
GEO:47.172078;8.109937
URL:https://eventfrog.ch/de/p/kunst-ausstellungen/ausstellung/annemie-lieder-ausstellung-7450449807133395286.html
END:VEVENT
BEGIN:VEVENT
UID:20260420T064719Z-7450449807192115546@eventfrog.ch
DTSTAMP:20260420T064719Z
DTSTART:20260508T130000Z
DTEND:20260508T170000Z
SUMMARY:Annemie Lieder - Ausstellung
DESCRIPTION:Die Aargauer Künstlerin Annemie Lieder hat das Auge für Unscheinbares, Nebensächliches. Und rückt das behutsam ins Zentrum ihres Schaffens.  Ihre Kunst ist nicht plakativ, sondern poetisch.\n\nhttps://eventfrog.ch/de/p/kunst-ausstellungen/ausstellung/annemie-lieder-ausstellung-7450449807192115546.html
LOCATION:Kunstforum Sursee
GEO:47.172078;8.109937
URL:https://eventfrog.ch/de/p/kunst-ausstellungen/ausstellung/annemie-lieder-ausstellung-7450449807192115546.html
END:VEVENT
BEGIN:VEVENT
UID:20260420T064719Z-7450449807259224412@eventfrog.ch
DTSTAMP:20260420T064719Z
DTSTART:20260509T130000Z
DTEND:20260509T170000Z
SUMMARY:Annemie Lieder - Ausstellung
DESCRIPTION:Die Aargauer Künstlerin Annemie Lieder hat das Auge für Unscheinbares, Nebensächliches. Und rückt das behutsam ins Zentrum ihres Schaffens.  Ihre Kunst ist nicht plakativ, sondern poetisch.\n\nhttps://eventfrog.ch/de/p/kunst-ausstellungen/ausstellung/annemie-lieder-ausstellung-7450449807259224412.html
LOCATION:Kunstforum Sursee
GEO:47.172078;8.109937
URL:https://eventfrog.ch/de/p/kunst-ausstellungen/ausstellung/annemie-lieder-ausstellung-7450449807259224412.html
END:VEVENT
BEGIN:VEVENT
UID:20260420T064719Z-7450449807569603548@eventfrog.ch
DTSTAMP:20260420T064719Z
DTSTART:20260510T090000Z
DTEND:20260510T140000Z
SUMMARY:Annemie Lieder - Ausstellung
DESCRIPTION:Die Aargauer Künstlerin Annemie Lieder hat das Auge für Unscheinbares, Nebensächliches. Und rückt das behutsam ins Zentrum ihres Schaffens.  Ihre Kunst ist nicht plakativ, sondern poetisch.\n\nhttps://eventfrog.ch/de/p/kunst-ausstellungen/ausstellung/annemie-lieder-ausstellung-7450449807569603548.html
LOCATION:Kunstforum Sursee
GEO:47.172078;8.109937
URL:https://eventfrog.ch/de/p/kunst-ausstellungen/ausstellung/annemie-lieder-ausstellung-7450449807569603548.html
END:VEVENT
BEGIN:VEVENT
UID:20260420T064719Z-7450449807334722417@eventfrog.ch
DTSTAMP:20260420T064719Z
DTSTART:20260515T130000Z
DTEND:20260515T170000Z
SUMMARY:Annemie Lieder - Ausstellung
DESCRIPTION:Die Aargauer Künstlerin Annemie Lieder hat das Auge für Unscheinbares, Nebensächliches. Und rückt das behutsam ins Zentrum ihres Schaffens.  Ihre Kunst ist nicht plakativ, sondern poetisch.\n\nhttps://eventfrog.ch/de/p/kunst-ausstellungen/ausstellung/annemie-lieder-ausstellung-7450449807334722417.html
LOCATION:Kunstforum Sursee
GEO:47.172078;8.109937
URL:https://eventfrog.ch/de/p/kunst-ausstellungen/ausstellung/annemie-lieder-ausstellung-7450449807334722417.html
END:VEVENT
BEGIN:VEVENT
UID:20260420T064719Z-7450449807435385718@eventfrog.ch
DTSTAMP:20260420T064719Z
DTSTART:20260516T130000Z
DTEND:20260516T170000Z
SUMMARY:Annemie Lieder - Ausstellung
DESCRIPTION:Die Aargauer Künstlerin Annemie Lieder hat das Auge für Unscheinbares, Nebensächliches. Und rückt das behutsam ins Zentrum ihres Schaffens.  Ihre Kunst ist nicht plakativ, sondern poetisch.\n\nhttps://eventfrog.ch/de/p/kunst-ausstellungen/ausstellung/annemie-lieder-ausstellung-7450449807435385718.html
LOCATION:Kunstforum Sursee
GEO:47.172078;8.109937
URL:https://eventfrog.ch/de/p/kunst-ausstellungen/ausstellung/annemie-lieder-ausstellung-7450449807435385718.html
END:VEVENT
BEGIN:VEVENT
UID:20260420T064719Z-7450449807506688987@eventfrog.ch
DTSTAMP:20260420T064719Z
DTSTART:20260517T090000Z
DTEND:20260517T140000Z
SUMMARY:Annemie Lieder - Ausstellung
DESCRIPTION:Die Aargauer Künstlerin Annemie Lieder hat das Auge für Unscheinbares, Nebensächliches. Und rückt das behutsam ins Zentrum ihres Schaffens.  Ihre Kunst ist nicht plakativ, sondern poetisch.\n\nhttps://eventfrog.ch/de/p/kunst-ausstellungen/ausstellung/annemie-lieder-ausstellung-7450449807506688987.html
LOCATION:Kunstforum Sursee
GEO:47.172078;8.109937
URL:https://eventfrog.ch/de/p/kunst-ausstellungen/ausstellung/annemie-lieder-ausstellung-7450449807506688987.html
END:VEVENT
END:VCALENDAR