BEGIN:VCALENDAR
VERSION:2.0
PRODID:EVENTFROG//EVENTGROUP//ICAL
BEGIN:VEVENT
UID:20260419T233847Z-7423499633140180387@eventfrog.ch
DTSTAMP:20260419T233847Z
DTSTART:20260512T163000Z
DTEND:20260512T174500Z
SUMMARY:Offenes Zeichnen im Naturmuseum
DESCRIPTION:Zeichnerisch das Naturmuseum erkunden.\n\nhttps://eventfrog.ch/de/p/diverses/offenes-zeichnen-im-naturmuseum-7423499633140180387.html
LOCATION:Naturmuseum Winterthur
GEO:47.501635;8.730331
URL:https://eventfrog.ch/de/p/diverses/offenes-zeichnen-im-naturmuseum-7423499633140180387.html
END:VEVENT
BEGIN:VEVENT
UID:20260419T233847Z-7423499632968213922@eventfrog.ch
DTSTAMP:20260419T233847Z
DTSTART:20260616T163000Z
DTEND:20260616T174500Z
SUMMARY:Offenes Zeichnen im Naturmuseum
DESCRIPTION:Zeichnerisch das Naturmuseum erkunden.\n\nhttps://eventfrog.ch/de/p/diverses/offenes-zeichnen-im-naturmuseum-7423499632968213922.html
LOCATION:Naturmuseum Winterthur
GEO:47.501635;8.730331
URL:https://eventfrog.ch/de/p/diverses/offenes-zeichnen-im-naturmuseum-7423499632968213922.html
END:VEVENT
END:VCALENDAR