BEGIN:VCALENDAR
VERSION:2.0
PRODID:EVENTFROG//EVENTGROUP//ICAL
BEGIN:VEVENT
UID:20260419T164621Z-7384705764886079576@eventfrog.ch
DTSTAMP:20260419T164621Z
DTSTART:20251115T230000Z
DTEND:20261004T215900Z
SUMMARY:Die Morgenländer. Jüdische Forscher suchen nach dem Eigenen
DESCRIPTION:Die Morgenländer. Jüdische Forscher suchen nach dem Eigenen im Fremden\n\nhttps://eventfrog.ch/de/p/wissenschaft-und-technik/die-morgenlaender-juedische-forscher-suchen-nach-dem-eigenen-7384705764886079576.html
LOCATION:Jüdisches Museum
GEO:47.364721;9.688902
URL:https://eventfrog.ch/de/p/wissenschaft-und-technik/die-morgenlaender-juedische-forscher-suchen-nach-dem-eigenen-7384705764886079576.html
END:VEVENT
BEGIN:VEVENT
UID:20260419T164621Z-7451384326938196400@eventfrog.ch
DTSTAMP:20260419T164621Z
DTSTART:20260501T120000Z
SUMMARY:Die Morgenländer. Jüdische Forscher suchen nach dem Eigenen
DESCRIPTION:Die Morgenländer. Jüdische Forscher suchen nach dem Eigenen im Fremden\n\nhttps://eventfrog.ch/de/p/wissenschaft-und-technik/die-morgenlaender-juedische-forscher-suchen-nach-dem-eigenen-7451384326938196400.html
LOCATION:Jüdisches Museum
GEO:47.364721;9.688902
URL:https://eventfrog.ch/de/p/wissenschaft-und-technik/die-morgenlaender-juedische-forscher-suchen-nach-dem-eigenen-7451384326938196400.html
END:VEVENT
BEGIN:VEVENT
UID:20260419T164621Z-7451384327114357170@eventfrog.ch
DTSTAMP:20260419T164621Z
DTSTART:20260503T093000Z
SUMMARY:Die Morgenländer. Jüdische Forscher suchen nach dem Eigenen
DESCRIPTION:Die Morgenländer. Jüdische Forscher suchen nach dem Eigenen im Fremden\n\nhttps://eventfrog.ch/de/p/wissenschaft-und-technik/die-morgenlaender-juedische-forscher-suchen-nach-dem-eigenen-7451384327114357170.html
LOCATION:Jüdisches Museum
GEO:47.364721;9.688902
URL:https://eventfrog.ch/de/p/wissenschaft-und-technik/die-morgenlaender-juedische-forscher-suchen-nach-dem-eigenen-7451384327114357170.html
END:VEVENT
BEGIN:VEVENT
UID:20260419T164621Z-7451384327303100851@eventfrog.ch
DTSTAMP:20260419T164621Z
DTSTART:20260516T130000Z
SUMMARY:Die Morgenländer. Jüdische Forscher suchen nach dem Eigenen
DESCRIPTION:Die Morgenländer. Jüdische Forscher suchen nach dem Eigenen im Fremden\n\nhttps://eventfrog.ch/de/p/wissenschaft-und-technik/die-morgenlaender-juedische-forscher-suchen-nach-dem-eigenen-7451384327303100851.html
LOCATION:Jüdisches Museum
GEO:47.364721;9.688902
URL:https://eventfrog.ch/de/p/wissenschaft-und-technik/die-morgenlaender-juedische-forscher-suchen-nach-dem-eigenen-7451384327303100851.html
END:VEVENT
BEGIN:VEVENT
UID:20260419T164621Z-7451384327479261622@eventfrog.ch
DTSTAMP:20260419T164621Z
DTSTART:20260522T120000Z
SUMMARY:Die Morgenländer. Jüdische Forscher suchen nach dem Eigenen
DESCRIPTION:Die Morgenländer. Jüdische Forscher suchen nach dem Eigenen im Fremden\n\nhttps://eventfrog.ch/de/p/wissenschaft-und-technik/die-morgenlaender-juedische-forscher-suchen-nach-dem-eigenen-7451384327479261622.html
LOCATION:Jüdisches Museum
GEO:47.364721;9.688902
URL:https://eventfrog.ch/de/p/wissenschaft-und-technik/die-morgenlaender-juedische-forscher-suchen-nach-dem-eigenen-7451384327479261622.html
END:VEVENT
BEGIN:VEVENT
UID:20260419T164621Z-7451384327655422391@eventfrog.ch
DTSTAMP:20260419T164621Z
DTSTART:20260524T093000Z
SUMMARY:Die Morgenländer. Jüdische Forscher suchen nach dem Eigenen
DESCRIPTION:Die Morgenländer. Jüdische Forscher suchen nach dem Eigenen im Fremden\n\nhttps://eventfrog.ch/de/p/wissenschaft-und-technik/die-morgenlaender-juedische-forscher-suchen-nach-dem-eigenen-7451384327655422391.html
LOCATION:Jüdisches Museum
GEO:47.364721;9.688902
URL:https://eventfrog.ch/de/p/wissenschaft-und-technik/die-morgenlaender-juedische-forscher-suchen-nach-dem-eigenen-7451384327655422391.html
END:VEVENT
BEGIN:VEVENT
UID:20260419T164621Z-7451384327839971781@eventfrog.ch
DTSTAMP:20260419T164621Z
DTSTART:20260531T093000Z
SUMMARY:Die Morgenländer. Jüdische Forscher suchen nach dem Eigenen
DESCRIPTION:Die Morgenländer. Jüdische Forscher suchen nach dem Eigenen im Fremden\n\nhttps://eventfrog.ch/de/p/wissenschaft-und-technik/die-morgenlaender-juedische-forscher-suchen-nach-dem-eigenen-7451384327839971781.html
LOCATION:Jüdisches Museum
GEO:47.364721;9.688902
URL:https://eventfrog.ch/de/p/wissenschaft-und-technik/die-morgenlaender-juedische-forscher-suchen-nach-dem-eigenen-7451384327839971781.html
END:VEVENT
END:VCALENDAR