BEGIN:VCALENDAR
VERSION:2.0
PRODID:EVENTFROG//EVENTGROUP//ICAL
BEGIN:VEVENT
UID:20260424T035342Z-7451390454942196823@eventfrog.ch
DTSTAMP:20260424T035342Z
DTSTART:20260424T180000Z
SUMMARY:Musikwoche im Grand Resort Bad Ragaz - Junge Talente verzaub
DESCRIPTION:Musikwoche im Grand Resort Bad Ragaz - Junge Talente verzaubern mit Virtuosität\n\nhttps://eventfrog.ch/de/p/konzerte/musikwoche-im-grand-resort-bad-ragaz-junge-talente-verzaub-7451390454942196823.html
LOCATION:Grand Resort Bad Ragaz
GEO:47.000427;9.503710
URL:https://eventfrog.ch/de/p/konzerte/musikwoche-im-grand-resort-bad-ragaz-junge-talente-verzaub-7451390454942196823.html
END:VEVENT
BEGIN:VEVENT
UID:20260424T035342Z-7451390457689467337@eventfrog.ch
DTSTAMP:20260424T035342Z
DTSTART:20260425T090000Z
SUMMARY:Musikwoche im Grand Resort Bad Ragaz - Junge Talente verzaub
DESCRIPTION:Musikwoche im Grand Resort Bad Ragaz - Junge Talente verzaubern mit Virtuosität\n\nhttps://eventfrog.ch/de/p/konzerte/musikwoche-im-grand-resort-bad-ragaz-junge-talente-verzaub-7451390457689467337.html
LOCATION:Grand Resort Bad Ragaz
GEO:47.000427;9.503710
URL:https://eventfrog.ch/de/p/konzerte/musikwoche-im-grand-resort-bad-ragaz-junge-talente-verzaub-7451390457689467337.html
END:VEVENT
END:VCALENDAR