BEGIN:VCALENDAR
VERSION:2.0
PRODID:EVENTFROG//EVENTGROUP//ICAL
BEGIN:VEVENT
UID:20260420T041008Z-7451390758270064879@eventfrog.ch
DTSTAMP:20260420T041008Z
DTSTART:20260502T173000Z
SUMMARY:Fragments
DESCRIPTION:Tanztheater über Macht und Wut in patriarchalen Strukturen.\n\nhttps://eventfrog.ch/de/p/theater-buehne/fragments-7451390758270064879.html
LOCATION:K9 Kulturzentrum
GEO:47.659907;9.171496
URL:https://eventfrog.ch/de/p/theater-buehne/fragments-7451390758270064879.html
END:VEVENT
BEGIN:VEVENT
UID:20260420T041008Z-7451390760656624135@eventfrog.ch
DTSTAMP:20260420T041008Z
DTSTART:20260503T140000Z
SUMMARY:Fragments
DESCRIPTION:Tanztheater über Macht und Wut in patriarchalen Strukturen.\n\nhttps://eventfrog.ch/de/p/theater-buehne/fragments-7451390760656624135.html
LOCATION:K9 Kulturzentrum
GEO:47.659907;9.171496
URL:https://eventfrog.ch/de/p/theater-buehne/fragments-7451390760656624135.html
END:VEVENT
BEGIN:VEVENT
UID:20260420T041008Z-7451390762997046304@eventfrog.ch
DTSTAMP:20260420T041008Z
DTSTART:20260503T170000Z
SUMMARY:Fragments
DESCRIPTION:Tanztheater über Macht und Wut in patriarchalen Strukturen.\n\nhttps://eventfrog.ch/de/p/theater-buehne/fragments-7451390762997046304.html
LOCATION:K9 Kulturzentrum
GEO:47.659907;9.171496
URL:https://eventfrog.ch/de/p/theater-buehne/fragments-7451390762997046304.html
END:VEVENT
BEGIN:VEVENT
UID:20260420T041008Z-7451390765333273661@eventfrog.ch
DTSTAMP:20260420T041008Z
DTSTART:20260504T173000Z
SUMMARY:Fragments
DESCRIPTION:Tanztheater über Macht und Wut in patriarchalen Strukturen.\n\nhttps://eventfrog.ch/de/p/theater-buehne/fragments-7451390765333273661.html
LOCATION:K9 Kulturzentrum
GEO:47.659907;9.171496
URL:https://eventfrog.ch/de/p/theater-buehne/fragments-7451390765333273661.html
END:VEVENT
END:VCALENDAR