BEGIN:VCALENDAR
VERSION:2.0
PRODID:EVENTFROG//EVENTGROUP//ICAL
BEGIN:VEVENT
UID:20260425T180057Z-7451392938645436960@eventfrog.ch
DTSTAMP:20260425T180057Z
DTSTART:20260508T180000Z
SUMMARY:19. Konstanzer Jazzgipfel
DESCRIPTION:Mit den Bands von 5 Konstanzer Schulen.\n\nhttps://eventfrog.ch/de/p/konzerte/19-konstanzer-jazzgipfel-7451392938645436960.html
LOCATION:BODENSEEFORUM KONSTANZ
GEO:47.671433;9.166143
URL:https://eventfrog.ch/de/p/konzerte/19-konstanzer-jazzgipfel-7451392938645436960.html
END:VEVENT
BEGIN:VEVENT
UID:20260425T180057Z-7451392938821597729@eventfrog.ch
DTSTAMP:20260425T180057Z
DTSTART:20260509T090000Z
SUMMARY:19. Konstanzer Jazzgipfel
DESCRIPTION:Mit den Bands von 5 Konstanzer Schulen.\n\nhttps://eventfrog.ch/de/p/konzerte/19-konstanzer-jazzgipfel-7451392938821597729.html
LOCATION:BODENSEEFORUM KONSTANZ
GEO:47.671433;9.166143
URL:https://eventfrog.ch/de/p/konzerte/19-konstanzer-jazzgipfel-7451392938821597729.html
END:VEVENT
BEGIN:VEVENT
UID:20260425T180057Z-7451392938993564195@eventfrog.ch
DTSTAMP:20260425T180057Z
DTSTART:20260509T160000Z
SUMMARY:19. Konstanzer Jazzgipfel
DESCRIPTION:Mit den Bands von 5 Konstanzer Schulen.\n\nhttps://eventfrog.ch/de/p/konzerte/19-konstanzer-jazzgipfel-7451392938993564195.html
LOCATION:BODENSEEFORUM KONSTANZ
GEO:47.671433;9.166143
URL:https://eventfrog.ch/de/p/konzerte/19-konstanzer-jazzgipfel-7451392938993564195.html
END:VEVENT
END:VCALENDAR