BEGIN:VCALENDAR
VERSION:2.0
PRODID:EVENTFROG//EVENTGROUP//ICAL
BEGIN:VEVENT
UID:20260420T022423Z-7451735698401405412@eventfrog.ch
DTSTAMP:20260420T022423Z
DTSTART:20260604T180000Z
DTEND:20260604T200000Z
SUMMARY:Stimmungsvolle Abendführung Salzburg
DESCRIPTION:Erleben Sie die Salzburgs Altstadt mit ihren traumhaften Fassaden, schönsten Gassen und beeindruckendsten Plätzen entspannt und in einer ganz besonderen Atmosphäre. \n\nhttps://eventfrog.ch/de/p/fuehrungen-vortraege/fuehrung/stimmungsvolle-abendfuehrung-salzburg-7451735698401405412.html
LOCATION:Eingang Schloss Mirabell
GEO:47.805304;13.043195
URL:https://eventfrog.ch/de/p/fuehrungen-vortraege/fuehrung/stimmungsvolle-abendfuehrung-salzburg-7451735698401405412.html
END:VEVENT
BEGIN:VEVENT
UID:20260420T022423Z-7451736594246047649@eventfrog.ch
DTSTAMP:20260420T022423Z
DTSTART:20260604T180000Z
DTEND:20260604T200000Z
SUMMARY:Stimmungsvolle Abendführung Salzburg
DESCRIPTION:Erleben Sie die Salzburgs Altstadt mit ihren traumhaften Fassaden, schönsten Gassen und beeindruckendsten Plätzen entspannt und in einer ganz besonderen Atmosphäre. \n\nhttps://eventfrog.ch/de/p/fuehrungen-vortraege/fuehrung/stimmungsvolle-abendfuehrung-salzburg-7451736594246047649.html
LOCATION:Eingang Schloss Mirabell
GEO:47.805304;13.043195
URL:https://eventfrog.ch/de/p/fuehrungen-vortraege/fuehrung/stimmungsvolle-abendfuehrung-salzburg-7451736594246047649.html
END:VEVENT
BEGIN:VEVENT
UID:20260420T022423Z-7451736594447374243@eventfrog.ch
DTSTAMP:20260420T022423Z
DTSTART:20260606T180000Z
DTEND:20260606T200000Z
SUMMARY:Stimmungsvolle Abendführung Salzburg
DESCRIPTION:Erleben Sie die Salzburgs Altstadt mit ihren traumhaften Fassaden, schönsten Gassen und beeindruckendsten Plätzen entspannt und in einer ganz besonderen Atmosphäre. \n\nhttps://eventfrog.ch/de/p/fuehrungen-vortraege/fuehrung/stimmungsvolle-abendfuehrung-salzburg-7451736594447374243.html
LOCATION:Eingang Schloss Mirabell
GEO:47.805304;13.043195
URL:https://eventfrog.ch/de/p/fuehrungen-vortraege/fuehrung/stimmungsvolle-abendfuehrung-salzburg-7451736594447374243.html
END:VEVENT
BEGIN:VEVENT
UID:20260420T022423Z-7451736594564815285@eventfrog.ch
DTSTAMP:20260420T022423Z
DTSTART:20260611T180000Z
DTEND:20260611T200000Z
SUMMARY:Stimmungsvolle Abendführung Salzburg
DESCRIPTION:Erleben Sie die Salzburgs Altstadt mit ihren traumhaften Fassaden, schönsten Gassen und beeindruckendsten Plätzen entspannt und in einer ganz besonderen Atmosphäre. \n\nhttps://eventfrog.ch/de/p/fuehrungen-vortraege/fuehrung/stimmungsvolle-abendfuehrung-salzburg-7451736594564815285.html
LOCATION:Eingang Schloss Mirabell
GEO:47.805304;13.043195
URL:https://eventfrog.ch/de/p/fuehrungen-vortraege/fuehrung/stimmungsvolle-abendfuehrung-salzburg-7451736594564815285.html
END:VEVENT
BEGIN:VEVENT
UID:20260420T022423Z-7451736594669672891@eventfrog.ch
DTSTAMP:20260420T022423Z
DTSTART:20260613T180000Z
DTEND:20260613T200000Z
SUMMARY:Stimmungsvolle Abendführung Salzburg
DESCRIPTION:Erleben Sie die Salzburgs Altstadt mit ihren traumhaften Fassaden, schönsten Gassen und beeindruckendsten Plätzen entspannt und in einer ganz besonderen Atmosphäre. \n\nhttps://eventfrog.ch/de/p/fuehrungen-vortraege/fuehrung/stimmungsvolle-abendfuehrung-salzburg-7451736594669672891.html
LOCATION:Eingang Schloss Mirabell
GEO:47.805304;13.043195
URL:https://eventfrog.ch/de/p/fuehrungen-vortraege/fuehrung/stimmungsvolle-abendfuehrung-salzburg-7451736594669672891.html
END:VEVENT
BEGIN:VEVENT
UID:20260420T022423Z-7451736594791307810@eventfrog.ch
DTSTAMP:20260420T022423Z
DTSTART:20260618T180000Z
DTEND:20260618T200000Z
SUMMARY:Stimmungsvolle Abendführung Salzburg
DESCRIPTION:Erleben Sie die Salzburgs Altstadt mit ihren traumhaften Fassaden, schönsten Gassen und beeindruckendsten Plätzen entspannt und in einer ganz besonderen Atmosphäre. \n\nhttps://eventfrog.ch/de/p/fuehrungen-vortraege/fuehrung/stimmungsvolle-abendfuehrung-salzburg-7451736594791307810.html
LOCATION:Eingang Schloss Mirabell
GEO:47.805304;13.043195
URL:https://eventfrog.ch/de/p/fuehrungen-vortraege/fuehrung/stimmungsvolle-abendfuehrung-salzburg-7451736594791307810.html
END:VEVENT
BEGIN:VEVENT
UID:20260420T022423Z-7451736594900359744@eventfrog.ch
DTSTAMP:20260420T022423Z
DTSTART:20260620T180000Z
DTEND:20260620T200000Z
SUMMARY:Stimmungsvolle Abendführung Salzburg
DESCRIPTION:Erleben Sie die Salzburgs Altstadt mit ihren traumhaften Fassaden, schönsten Gassen und beeindruckendsten Plätzen entspannt und in einer ganz besonderen Atmosphäre. \n\nhttps://eventfrog.ch/de/p/fuehrungen-vortraege/fuehrung/stimmungsvolle-abendfuehrung-salzburg-7451736594900359744.html
LOCATION:Eingang Schloss Mirabell
GEO:47.805304;13.043195
URL:https://eventfrog.ch/de/p/fuehrungen-vortraege/fuehrung/stimmungsvolle-abendfuehrung-salzburg-7451736594900359744.html
END:VEVENT
BEGIN:VEVENT
UID:20260420T022423Z-7451736595021994614@eventfrog.ch
DTSTAMP:20260420T022423Z
DTSTART:20260625T180000Z
DTEND:20260625T200000Z
SUMMARY:Stimmungsvolle Abendführung Salzburg
DESCRIPTION:Erleben Sie die Salzburgs Altstadt mit ihren traumhaften Fassaden, schönsten Gassen und beeindruckendsten Plätzen entspannt und in einer ganz besonderen Atmosphäre. \n\nhttps://eventfrog.ch/de/p/fuehrungen-vortraege/fuehrung/stimmungsvolle-abendfuehrung-salzburg-7451736595021994614.html
LOCATION:Eingang Schloss Mirabell
GEO:47.805304;13.043195
URL:https://eventfrog.ch/de/p/fuehrungen-vortraege/fuehrung/stimmungsvolle-abendfuehrung-salzburg-7451736595021994614.html
END:VEVENT
BEGIN:VEVENT
UID:20260420T022423Z-7451736595172989570@eventfrog.ch
DTSTAMP:20260420T022423Z
DTSTART:20260627T180000Z
DTEND:20260627T200000Z
SUMMARY:Stimmungsvolle Abendführung Salzburg
DESCRIPTION:Erleben Sie die Salzburgs Altstadt mit ihren traumhaften Fassaden, schönsten Gassen und beeindruckendsten Plätzen entspannt und in einer ganz besonderen Atmosphäre. \n\nhttps://eventfrog.ch/de/p/fuehrungen-vortraege/fuehrung/stimmungsvolle-abendfuehrung-salzburg-7451736595172989570.html
LOCATION:Eingang Schloss Mirabell
GEO:47.805304;13.043195
URL:https://eventfrog.ch/de/p/fuehrungen-vortraege/fuehrung/stimmungsvolle-abendfuehrung-salzburg-7451736595172989570.html
END:VEVENT
BEGIN:VEVENT
UID:20260420T022423Z-7451736595303012996@eventfrog.ch
DTSTAMP:20260420T022423Z
DTSTART:20260702T180000Z
DTEND:20260702T200000Z
SUMMARY:Stimmungsvolle Abendführung Salzburg
DESCRIPTION:Erleben Sie die Salzburgs Altstadt mit ihren traumhaften Fassaden, schönsten Gassen und beeindruckendsten Plätzen entspannt und in einer ganz besonderen Atmosphäre. \n\nhttps://eventfrog.ch/de/p/fuehrungen-vortraege/fuehrung/stimmungsvolle-abendfuehrung-salzburg-7451736595303012996.html
LOCATION:Eingang Schloss Mirabell
GEO:47.805304;13.043195
URL:https://eventfrog.ch/de/p/fuehrungen-vortraege/fuehrung/stimmungsvolle-abendfuehrung-salzburg-7451736595303012996.html
END:VEVENT
BEGIN:VEVENT
UID:20260420T022423Z-7451736595412064903@eventfrog.ch
DTSTAMP:20260420T022423Z
DTSTART:20260704T180000Z
DTEND:20260704T200000Z
SUMMARY:Stimmungsvolle Abendführung Salzburg
DESCRIPTION:Erleben Sie die Salzburgs Altstadt mit ihren traumhaften Fassaden, schönsten Gassen und beeindruckendsten Plätzen entspannt und in einer ganz besonderen Atmosphäre. \n\nhttps://eventfrog.ch/de/p/fuehrungen-vortraege/fuehrung/stimmungsvolle-abendfuehrung-salzburg-7451736595412064903.html
LOCATION:Eingang Schloss Mirabell
GEO:47.805304;13.043195
URL:https://eventfrog.ch/de/p/fuehrungen-vortraege/fuehrung/stimmungsvolle-abendfuehrung-salzburg-7451736595412064903.html
END:VEVENT
BEGIN:VEVENT
UID:20260420T022423Z-7451736595537894108@eventfrog.ch
DTSTAMP:20260420T022423Z
DTSTART:20260709T180000Z
DTEND:20260709T200000Z
SUMMARY:Stimmungsvolle Abendführung Salzburg
DESCRIPTION:Erleben Sie die Salzburgs Altstadt mit ihren traumhaften Fassaden, schönsten Gassen und beeindruckendsten Plätzen entspannt und in einer ganz besonderen Atmosphäre. \n\nhttps://eventfrog.ch/de/p/fuehrungen-vortraege/fuehrung/stimmungsvolle-abendfuehrung-salzburg-7451736595537894108.html
LOCATION:Eingang Schloss Mirabell
GEO:47.805304;13.043195
URL:https://eventfrog.ch/de/p/fuehrungen-vortraege/fuehrung/stimmungsvolle-abendfuehrung-salzburg-7451736595537894108.html
END:VEVENT
BEGIN:VEVENT
UID:20260420T022423Z-7451736595651140331@eventfrog.ch
DTSTAMP:20260420T022423Z
DTSTART:20260711T180000Z
DTEND:20260711T200000Z
SUMMARY:Stimmungsvolle Abendführung Salzburg
DESCRIPTION:Erleben Sie die Salzburgs Altstadt mit ihren traumhaften Fassaden, schönsten Gassen und beeindruckendsten Plätzen entspannt und in einer ganz besonderen Atmosphäre. \n\nhttps://eventfrog.ch/de/p/fuehrungen-vortraege/fuehrung/stimmungsvolle-abendfuehrung-salzburg-7451736595651140331.html
LOCATION:Eingang Schloss Mirabell
GEO:47.805304;13.043195
URL:https://eventfrog.ch/de/p/fuehrungen-vortraege/fuehrung/stimmungsvolle-abendfuehrung-salzburg-7451736595651140331.html
END:VEVENT
BEGIN:VEVENT
UID:20260420T022423Z-7451736595768580845@eventfrog.ch
DTSTAMP:20260420T022423Z
DTSTART:20260716T180000Z
DTEND:20260716T200000Z
SUMMARY:Stimmungsvolle Abendführung Salzburg
DESCRIPTION:Erleben Sie die Salzburgs Altstadt mit ihren traumhaften Fassaden, schönsten Gassen und beeindruckendsten Plätzen entspannt und in einer ganz besonderen Atmosphäre. \n\nhttps://eventfrog.ch/de/p/fuehrungen-vortraege/fuehrung/stimmungsvolle-abendfuehrung-salzburg-7451736595768580845.html
LOCATION:Eingang Schloss Mirabell
GEO:47.805304;13.043195
URL:https://eventfrog.ch/de/p/fuehrungen-vortraege/fuehrung/stimmungsvolle-abendfuehrung-salzburg-7451736595768580845.html
END:VEVENT
BEGIN:VEVENT
UID:20260420T022423Z-7451736595890215684@eventfrog.ch
DTSTAMP:20260420T022423Z
DTSTART:20260718T180000Z
DTEND:20260718T200000Z
SUMMARY:Stimmungsvolle Abendführung Salzburg
DESCRIPTION:Erleben Sie die Salzburgs Altstadt mit ihren traumhaften Fassaden, schönsten Gassen und beeindruckendsten Plätzen entspannt und in einer ganz besonderen Atmosphäre. \n\nhttps://eventfrog.ch/de/p/fuehrungen-vortraege/fuehrung/stimmungsvolle-abendfuehrung-salzburg-7451736595890215684.html
LOCATION:Eingang Schloss Mirabell
GEO:47.805304;13.043195
URL:https://eventfrog.ch/de/p/fuehrungen-vortraege/fuehrung/stimmungsvolle-abendfuehrung-salzburg-7451736595890215684.html
END:VEVENT
BEGIN:VEVENT
UID:20260420T022423Z-7451736595999267590@eventfrog.ch
DTSTAMP:20260420T022423Z
DTSTART:20260723T180000Z
DTEND:20260723T200000Z
SUMMARY:Stimmungsvolle Abendführung Salzburg
DESCRIPTION:Erleben Sie die Salzburgs Altstadt mit ihren traumhaften Fassaden, schönsten Gassen und beeindruckendsten Plätzen entspannt und in einer ganz besonderen Atmosphäre. \n\nhttps://eventfrog.ch/de/p/fuehrungen-vortraege/fuehrung/stimmungsvolle-abendfuehrung-salzburg-7451736595999267590.html
LOCATION:Eingang Schloss Mirabell
GEO:47.805304;13.043195
URL:https://eventfrog.ch/de/p/fuehrungen-vortraege/fuehrung/stimmungsvolle-abendfuehrung-salzburg-7451736595999267590.html
END:VEVENT
BEGIN:VEVENT
UID:20260420T022423Z-7451736596108319496@eventfrog.ch
DTSTAMP:20260420T022423Z
DTSTART:20260725T180000Z
DTEND:20260725T200000Z
SUMMARY:Stimmungsvolle Abendführung Salzburg
DESCRIPTION:Erleben Sie die Salzburgs Altstadt mit ihren traumhaften Fassaden, schönsten Gassen und beeindruckendsten Plätzen entspannt und in einer ganz besonderen Atmosphäre. \n\nhttps://eventfrog.ch/de/p/fuehrungen-vortraege/fuehrung/stimmungsvolle-abendfuehrung-salzburg-7451736596108319496.html
LOCATION:Eingang Schloss Mirabell
GEO:47.805304;13.043195
URL:https://eventfrog.ch/de/p/fuehrungen-vortraege/fuehrung/stimmungsvolle-abendfuehrung-salzburg-7451736596108319496.html
END:VEVENT
BEGIN:VEVENT
UID:20260420T022423Z-7451736596229954314@eventfrog.ch
DTSTAMP:20260420T022423Z
DTSTART:20260730T180000Z
DTEND:20260730T200000Z
SUMMARY:Stimmungsvolle Abendführung Salzburg
DESCRIPTION:Erleben Sie die Salzburgs Altstadt mit ihren traumhaften Fassaden, schönsten Gassen und beeindruckendsten Plätzen entspannt und in einer ganz besonderen Atmosphäre. \n\nhttps://eventfrog.ch/de/p/fuehrungen-vortraege/fuehrung/stimmungsvolle-abendfuehrung-salzburg-7451736596229954314.html
LOCATION:Eingang Schloss Mirabell
GEO:47.805304;13.043195
URL:https://eventfrog.ch/de/p/fuehrungen-vortraege/fuehrung/stimmungsvolle-abendfuehrung-salzburg-7451736596229954314.html
END:VEVENT
BEGIN:VEVENT
UID:20260420T022423Z-7451736596355783437@eventfrog.ch
DTSTAMP:20260420T022423Z
DTSTART:20260801T180000Z
DTEND:20260801T200000Z
SUMMARY:Stimmungsvolle Abendführung Salzburg
DESCRIPTION:Erleben Sie die Salzburgs Altstadt mit ihren traumhaften Fassaden, schönsten Gassen und beeindruckendsten Plätzen entspannt und in einer ganz besonderen Atmosphäre. \n\nhttps://eventfrog.ch/de/p/fuehrungen-vortraege/fuehrung/stimmungsvolle-abendfuehrung-salzburg-7451736596355783437.html
LOCATION:Eingang Schloss Mirabell
GEO:47.805304;13.043195
URL:https://eventfrog.ch/de/p/fuehrungen-vortraege/fuehrung/stimmungsvolle-abendfuehrung-salzburg-7451736596355783437.html
END:VEVENT
BEGIN:VEVENT
UID:20260420T022423Z-7451736596473223951@eventfrog.ch
DTSTAMP:20260420T022423Z
DTSTART:20260806T180000Z
DTEND:20260806T200000Z
SUMMARY:Stimmungsvolle Abendführung Salzburg
DESCRIPTION:Erleben Sie die Salzburgs Altstadt mit ihren traumhaften Fassaden, schönsten Gassen und beeindruckendsten Plätzen entspannt und in einer ganz besonderen Atmosphäre. \n\nhttps://eventfrog.ch/de/p/fuehrungen-vortraege/fuehrung/stimmungsvolle-abendfuehrung-salzburg-7451736596473223951.html
LOCATION:Eingang Schloss Mirabell
GEO:47.805304;13.043195
URL:https://eventfrog.ch/de/p/fuehrungen-vortraege/fuehrung/stimmungsvolle-abendfuehrung-salzburg-7451736596473223951.html
END:VEVENT
BEGIN:VEVENT
UID:20260420T022423Z-7451736596586470161@eventfrog.ch
DTSTAMP:20260420T022423Z
DTSTART:20260808T180000Z
DTEND:20260808T200000Z
SUMMARY:Stimmungsvolle Abendführung Salzburg
DESCRIPTION:Erleben Sie die Salzburgs Altstadt mit ihren traumhaften Fassaden, schönsten Gassen und beeindruckendsten Plätzen entspannt und in einer ganz besonderen Atmosphäre. \n\nhttps://eventfrog.ch/de/p/fuehrungen-vortraege/fuehrung/stimmungsvolle-abendfuehrung-salzburg-7451736596586470161.html
LOCATION:Eingang Schloss Mirabell
GEO:47.805304;13.043195
URL:https://eventfrog.ch/de/p/fuehrungen-vortraege/fuehrung/stimmungsvolle-abendfuehrung-salzburg-7451736596586470161.html
END:VEVENT
BEGIN:VEVENT
UID:20260420T022423Z-7451736596699716372@eventfrog.ch
DTSTAMP:20260420T022423Z
DTSTART:20260813T180000Z
DTEND:20260813T200000Z
SUMMARY:Stimmungsvolle Abendführung Salzburg
DESCRIPTION:Erleben Sie die Salzburgs Altstadt mit ihren traumhaften Fassaden, schönsten Gassen und beeindruckendsten Plätzen entspannt und in einer ganz besonderen Atmosphäre. \n\nhttps://eventfrog.ch/de/p/fuehrungen-vortraege/fuehrung/stimmungsvolle-abendfuehrung-salzburg-7451736596699716372.html
LOCATION:Eingang Schloss Mirabell
GEO:47.805304;13.043195
URL:https://eventfrog.ch/de/p/fuehrungen-vortraege/fuehrung/stimmungsvolle-abendfuehrung-salzburg-7451736596699716372.html
END:VEVENT
BEGIN:VEVENT
UID:20260420T022423Z-7451736596821351190@eventfrog.ch
DTSTAMP:20260420T022423Z
DTSTART:20260815T180000Z
DTEND:20260815T200000Z
SUMMARY:Stimmungsvolle Abendführung Salzburg
DESCRIPTION:Erleben Sie die Salzburgs Altstadt mit ihren traumhaften Fassaden, schönsten Gassen und beeindruckendsten Plätzen entspannt und in einer ganz besonderen Atmosphäre. \n\nhttps://eventfrog.ch/de/p/fuehrungen-vortraege/fuehrung/stimmungsvolle-abendfuehrung-salzburg-7451736596821351190.html
LOCATION:Eingang Schloss Mirabell
GEO:47.805304;13.043195
URL:https://eventfrog.ch/de/p/fuehrungen-vortraege/fuehrung/stimmungsvolle-abendfuehrung-salzburg-7451736596821351190.html
END:VEVENT
BEGIN:VEVENT
UID:20260420T022423Z-7451736596968151833@eventfrog.ch
DTSTAMP:20260420T022423Z
DTSTART:20260820T180000Z
DTEND:20260820T200000Z
SUMMARY:Stimmungsvolle Abendführung Salzburg
DESCRIPTION:Erleben Sie die Salzburgs Altstadt mit ihren traumhaften Fassaden, schönsten Gassen und beeindruckendsten Plätzen entspannt und in einer ganz besonderen Atmosphäre. \n\nhttps://eventfrog.ch/de/p/fuehrungen-vortraege/fuehrung/stimmungsvolle-abendfuehrung-salzburg-7451736596968151833.html
LOCATION:Eingang Schloss Mirabell
GEO:47.805304;13.043195
URL:https://eventfrog.ch/de/p/fuehrungen-vortraege/fuehrung/stimmungsvolle-abendfuehrung-salzburg-7451736596968151833.html
END:VEVENT
BEGIN:VEVENT
UID:20260420T022423Z-7451736597098175260@eventfrog.ch
DTSTAMP:20260420T022423Z
DTSTART:20260822T180000Z
DTEND:20260822T200000Z
SUMMARY:Stimmungsvolle Abendführung Salzburg
DESCRIPTION:Erleben Sie die Salzburgs Altstadt mit ihren traumhaften Fassaden, schönsten Gassen und beeindruckendsten Plätzen entspannt und in einer ganz besonderen Atmosphäre. \n\nhttps://eventfrog.ch/de/p/fuehrungen-vortraege/fuehrung/stimmungsvolle-abendfuehrung-salzburg-7451736597098175260.html
LOCATION:Eingang Schloss Mirabell
GEO:47.805304;13.043195
URL:https://eventfrog.ch/de/p/fuehrungen-vortraege/fuehrung/stimmungsvolle-abendfuehrung-salzburg-7451736597098175260.html
END:VEVENT
BEGIN:VEVENT
UID:20260420T022423Z-7451736597211421473@eventfrog.ch
DTSTAMP:20260420T022423Z
DTSTART:20260827T180000Z
DTEND:20260827T200000Z
SUMMARY:Stimmungsvolle Abendführung Salzburg
DESCRIPTION:Erleben Sie die Salzburgs Altstadt mit ihren traumhaften Fassaden, schönsten Gassen und beeindruckendsten Plätzen entspannt und in einer ganz besonderen Atmosphäre. \n\nhttps://eventfrog.ch/de/p/fuehrungen-vortraege/fuehrung/stimmungsvolle-abendfuehrung-salzburg-7451736597211421473.html
LOCATION:Eingang Schloss Mirabell
GEO:47.805304;13.043195
URL:https://eventfrog.ch/de/p/fuehrungen-vortraege/fuehrung/stimmungsvolle-abendfuehrung-salzburg-7451736597211421473.html
END:VEVENT
BEGIN:VEVENT
UID:20260420T022423Z-7451736597337250596@eventfrog.ch
DTSTAMP:20260420T022423Z
DTSTART:20260829T180000Z
DTEND:20260829T200000Z
SUMMARY:Stimmungsvolle Abendführung Salzburg
DESCRIPTION:Erleben Sie die Salzburgs Altstadt mit ihren traumhaften Fassaden, schönsten Gassen und beeindruckendsten Plätzen entspannt und in einer ganz besonderen Atmosphäre. \n\nhttps://eventfrog.ch/de/p/fuehrungen-vortraege/fuehrung/stimmungsvolle-abendfuehrung-salzburg-7451736597337250596.html
LOCATION:Eingang Schloss Mirabell
GEO:47.805304;13.043195
URL:https://eventfrog.ch/de/p/fuehrungen-vortraege/fuehrung/stimmungsvolle-abendfuehrung-salzburg-7451736597337250596.html
END:VEVENT
END:VCALENDAR