BEGIN:VCALENDAR
VERSION:2.0
PRODID:EVENTFROG//EVENTGROUP//ICAL
BEGIN:VEVENT
UID:20260420T025643Z-7439441762265920777@eventfrog.ch
DTSTAMP:20260420T025643Z
DTSTART:20260430T180000Z
SUMMARY:Al Capone's Karaokenight
DESCRIPTION:Singen, Tanzen und Craft Beer.\n\nhttps://eventfrog.ch/de/p/partys/al-capone-s-karaokenight-7439441762265920777.html
LOCATION:Al Capone Steakhouse
GEO:47.426588;9.376660
URL:https://eventfrog.ch/de/p/partys/al-capone-s-karaokenight-7439441762265920777.html
END:VEVENT
END:VCALENDAR