BEGIN:VCALENDAR
VERSION:2.0
PRODID:EVENTFROG//EVENTGROUP//ICAL
BEGIN:VEVENT
UID:20260424T075554Z-7451908821457367350@eventfrog.ch
DTSTAMP:20260424T075554Z
DTSTART:20260620T170000Z
DTEND:20260621T140000Z
SUMMARY:Un voyage onirique au cœur de la danse
DESCRIPTION:Le studio chorégraphique, école de danse à Fribourg présente son premier spectacle annuel chorégraphié par Valentina Paddeu à l'Aula du Collège de Gambach.\n\nhttps://eventfrog.ch/fr/p/theatre-scene/danse/un-voyage-onirique-au-cur-de-la-danse-7451908821457367350.html
LOCATION:Collège de Gambach
GEO:46.806740;7.149893
URL:https://eventfrog.ch/fr/p/theatre-scene/danse/un-voyage-onirique-au-cur-de-la-danse-7451908821457367350.html
END:VEVENT
END:VCALENDAR