BEGIN:VCALENDAR
VERSION:2.0
PRODID:EVENTFROG//EVENTGROUP//ICAL
BEGIN:VEVENT
UID:20260424T063641Z-7452278680464678274@eventfrog.ch
DTSTAMP:20260424T063641Z
DTSTART:20260612T180000Z
DTEND:20260612T193000Z
SUMMARY:Sternenlicht – Ensemble Phoenix Basel
DESCRIPTION:In «Sternenlicht» widmet sich das Ensemble Phoenix Basel in vier Werken von Eleni Ralli, Younghi Pagh-Paan, Klaus Lang und Isang Yun dem Zusammenspiel von Raum, Klang und künstlerischer Haltung.\n\nhttps://eventfrog.ch/de/p/klassik-opern/klassik/sternenlicht-ensemble-phoenix-basel-7452278680464678274.html
LOCATION:Gare du Nord – Bahnhof für Neue Musik
GEO:47.567389;7.607131
URL:https://eventfrog.ch/de/p/klassik-opern/klassik/sternenlicht-ensemble-phoenix-basel-7452278680464678274.html
END:VEVENT
BEGIN:VEVENT
UID:20260424T063641Z-7452278745438644152@eventfrog.ch
DTSTAMP:20260424T063641Z
DTSTART:20260613T180000Z
DTEND:20260613T193000Z
SUMMARY:Sternenlicht – Ensemble Phoenix Basel
DESCRIPTION:In «Sternenlicht» widmet sich das Ensemble Phoenix Basel in vier Werken von Eleni Ralli, Younghi Pagh-Paan, Klaus Lang und Isang Yun dem Zusammenspiel von Raum, Klang und künstlerischer Haltung.\n\nhttps://eventfrog.ch/de/p/klassik-opern/klassik/sternenlicht-ensemble-phoenix-basel-7452278745438644152.html
LOCATION:Gare du Nord – Bahnhof für Neue Musik
GEO:47.567389;7.607131
URL:https://eventfrog.ch/de/p/klassik-opern/klassik/sternenlicht-ensemble-phoenix-basel-7452278745438644152.html
END:VEVENT
END:VCALENDAR