BEGIN:VCALENDAR
VERSION:2.0
PRODID:EVENTFROG//EVENTGROUP//ICAL
BEGIN:VEVENT
UID:20260424T072123Z-7452332560703580302@eventfrog.ch
DTSTAMP:20260424T072123Z
DTSTART:20260425T130000Z
DTEND:20260425T143000Z
SUMMARY:Stadtspaziergang Andernach
DESCRIPTION:Gästeführung durch das historische Andernach\n\nhttps://eventfrog.ch/de/p/fuehrungen-vortraege/stadtfuehrung/stadtspaziergang-andernach-7452332560703580302.html
LOCATION:Tourist-Information Andernach
GEO:50.439492;7.400656
URL:https://eventfrog.ch/de/p/fuehrungen-vortraege/stadtfuehrung/stadtspaziergang-andernach-7452332560703580302.html
END:VEVENT
BEGIN:VEVENT
UID:20260424T072123Z-7452333006214188534@eventfrog.ch
DTSTAMP:20260424T072123Z
DTSTART:20260425T130000Z
DTEND:20260425T143000Z
SUMMARY:Stadtspaziergang Andernach
DESCRIPTION:Gästeführung durch das historische Andernach\n\nhttps://eventfrog.ch/de/p/fuehrungen-vortraege/stadtfuehrung/stadtspaziergang-andernach-7452333006214188534.html
LOCATION:Tourist-Information Andernach
GEO:50.439492;7.400656
URL:https://eventfrog.ch/de/p/fuehrungen-vortraege/stadtfuehrung/stadtspaziergang-andernach-7452333006214188534.html
END:VEVENT
BEGIN:VEVENT
UID:20260424T072123Z-7452333006293880311@eventfrog.ch
DTSTAMP:20260424T072123Z
DTSTART:20260502T130000Z
DTEND:20260502T143000Z
SUMMARY:Stadtspaziergang Andernach
DESCRIPTION:Gästeführung durch das historische Andernach\n\nhttps://eventfrog.ch/de/p/fuehrungen-vortraege/stadtfuehrung/stadtspaziergang-andernach-7452333006293880311.html
LOCATION:Tourist-Information Andernach
GEO:50.439492;7.400656
URL:https://eventfrog.ch/de/p/fuehrungen-vortraege/stadtfuehrung/stadtspaziergang-andernach-7452333006293880311.html
END:VEVENT
BEGIN:VEVENT
UID:20260424T072123Z-7452333006373572088@eventfrog.ch
DTSTAMP:20260424T072123Z
DTSTART:20260509T130000Z
DTEND:20260509T143000Z
SUMMARY:Stadtspaziergang Andernach
DESCRIPTION:Gästeführung durch das historische Andernach\n\nhttps://eventfrog.ch/de/p/fuehrungen-vortraege/stadtfuehrung/stadtspaziergang-andernach-7452333006373572088.html
LOCATION:Tourist-Information Andernach
GEO:50.439492;7.400656
URL:https://eventfrog.ch/de/p/fuehrungen-vortraege/stadtfuehrung/stadtspaziergang-andernach-7452333006373572088.html
END:VEVENT
BEGIN:VEVENT
UID:20260424T072123Z-7452333006465846777@eventfrog.ch
DTSTAMP:20260424T072123Z
DTSTART:20260516T130000Z
DTEND:20260516T143000Z
SUMMARY:Stadtspaziergang Andernach
DESCRIPTION:Gästeführung durch das historische Andernach\n\nhttps://eventfrog.ch/de/p/fuehrungen-vortraege/stadtfuehrung/stadtspaziergang-andernach-7452333006465846777.html
LOCATION:Tourist-Information Andernach
GEO:50.439492;7.400656
URL:https://eventfrog.ch/de/p/fuehrungen-vortraege/stadtfuehrung/stadtspaziergang-andernach-7452333006465846777.html
END:VEVENT
BEGIN:VEVENT
UID:20260424T072123Z-7452333006591676416@eventfrog.ch
DTSTAMP:20260424T072123Z
DTSTART:20260523T130000Z
DTEND:20260523T143000Z
SUMMARY:Stadtspaziergang Andernach
DESCRIPTION:Gästeführung durch das historische Andernach\n\nhttps://eventfrog.ch/de/p/fuehrungen-vortraege/stadtfuehrung/stadtspaziergang-andernach-7452333006591676416.html
LOCATION:Tourist-Information Andernach
GEO:50.439492;7.400656
URL:https://eventfrog.ch/de/p/fuehrungen-vortraege/stadtfuehrung/stadtspaziergang-andernach-7452333006591676416.html
END:VEVENT
BEGIN:VEVENT
UID:20260424T072123Z-7452333006721699937@eventfrog.ch
DTSTAMP:20260424T072123Z
DTSTART:20260530T130000Z
DTEND:20260530T143000Z
SUMMARY:Stadtspaziergang Andernach
DESCRIPTION:Gästeführung durch das historische Andernach\n\nhttps://eventfrog.ch/de/p/fuehrungen-vortraege/stadtfuehrung/stadtspaziergang-andernach-7452333006721699937.html
LOCATION:Tourist-Information Andernach
GEO:50.439492;7.400656
URL:https://eventfrog.ch/de/p/fuehrungen-vortraege/stadtfuehrung/stadtspaziergang-andernach-7452333006721699937.html
END:VEVENT
BEGIN:VEVENT
UID:20260424T072123Z-7452333006826557562@eventfrog.ch
DTSTAMP:20260424T072123Z
DTSTART:20260606T130000Z
DTEND:20260606T143000Z
SUMMARY:Stadtspaziergang Andernach
DESCRIPTION:Gästeführung durch das historische Andernach\n\nhttps://eventfrog.ch/de/p/fuehrungen-vortraege/stadtfuehrung/stadtspaziergang-andernach-7452333006826557562.html
LOCATION:Tourist-Information Andernach
GEO:50.439492;7.400656
URL:https://eventfrog.ch/de/p/fuehrungen-vortraege/stadtfuehrung/stadtspaziergang-andernach-7452333006826557562.html
END:VEVENT
BEGIN:VEVENT
UID:20260424T072123Z-7452333006923026597@eventfrog.ch
DTSTAMP:20260424T072123Z
DTSTART:20260613T130000Z
DTEND:20260613T143000Z
SUMMARY:Stadtspaziergang Andernach
DESCRIPTION:Gästeführung durch das historische Andernach\n\nhttps://eventfrog.ch/de/p/fuehrungen-vortraege/stadtfuehrung/stadtspaziergang-andernach-7452333006923026597.html
LOCATION:Tourist-Information Andernach
GEO:50.439492;7.400656
URL:https://eventfrog.ch/de/p/fuehrungen-vortraege/stadtfuehrung/stadtspaziergang-andernach-7452333006923026597.html
END:VEVENT
BEGIN:VEVENT
UID:20260424T072123Z-7452333006998524081@eventfrog.ch
DTSTAMP:20260424T072123Z
DTSTART:20260620T130000Z
DTEND:20260620T143000Z
SUMMARY:Stadtspaziergang Andernach
DESCRIPTION:Gästeführung durch das historische Andernach\n\nhttps://eventfrog.ch/de/p/fuehrungen-vortraege/stadtfuehrung/stadtspaziergang-andernach-7452333006998524081.html
LOCATION:Tourist-Information Andernach
GEO:50.439492;7.400656
URL:https://eventfrog.ch/de/p/fuehrungen-vortraege/stadtfuehrung/stadtspaziergang-andernach-7452333006998524081.html
END:VEVENT
BEGIN:VEVENT
UID:20260424T072123Z-7452333007078215868@eventfrog.ch
DTSTAMP:20260424T072123Z
DTSTART:20260627T130000Z
DTEND:20260627T143000Z
SUMMARY:Stadtspaziergang Andernach
DESCRIPTION:Gästeführung durch das historische Andernach\n\nhttps://eventfrog.ch/de/p/fuehrungen-vortraege/stadtfuehrung/stadtspaziergang-andernach-7452333007078215868.html
LOCATION:Tourist-Information Andernach
GEO:50.439492;7.400656
URL:https://eventfrog.ch/de/p/fuehrungen-vortraege/stadtfuehrung/stadtspaziergang-andernach-7452333007078215868.html
END:VEVENT
BEGIN:VEVENT
UID:20260424T072123Z-7452333007162101951@eventfrog.ch
DTSTAMP:20260424T072123Z
DTSTART:20260704T130000Z
DTEND:20260704T143000Z
SUMMARY:Stadtspaziergang Andernach
DESCRIPTION:Gästeführung durch das historische Andernach\n\nhttps://eventfrog.ch/de/p/fuehrungen-vortraege/stadtfuehrung/stadtspaziergang-andernach-7452333007162101951.html
LOCATION:Tourist-Information Andernach
GEO:50.439492;7.400656
URL:https://eventfrog.ch/de/p/fuehrungen-vortraege/stadtfuehrung/stadtspaziergang-andernach-7452333007162101951.html
END:VEVENT
BEGIN:VEVENT
UID:20260424T072123Z-7452333007241793728@eventfrog.ch
DTSTAMP:20260424T072123Z
DTSTART:20260711T130000Z
DTEND:20260711T143000Z
SUMMARY:Stadtspaziergang Andernach
DESCRIPTION:Gästeführung durch das historische Andernach\n\nhttps://eventfrog.ch/de/p/fuehrungen-vortraege/stadtfuehrung/stadtspaziergang-andernach-7452333007241793728.html
LOCATION:Tourist-Information Andernach
GEO:50.439492;7.400656
URL:https://eventfrog.ch/de/p/fuehrungen-vortraege/stadtfuehrung/stadtspaziergang-andernach-7452333007241793728.html
END:VEVENT
BEGIN:VEVENT
UID:20260424T072123Z-7452333007338262722@eventfrog.ch
DTSTAMP:20260424T072123Z
DTSTART:20260718T130000Z
DTEND:20260718T143000Z
SUMMARY:Stadtspaziergang Andernach
DESCRIPTION:Gästeführung durch das historische Andernach\n\nhttps://eventfrog.ch/de/p/fuehrungen-vortraege/stadtfuehrung/stadtspaziergang-andernach-7452333007338262722.html
LOCATION:Tourist-Information Andernach
GEO:50.439492;7.400656
URL:https://eventfrog.ch/de/p/fuehrungen-vortraege/stadtfuehrung/stadtspaziergang-andernach-7452333007338262722.html
END:VEVENT
BEGIN:VEVENT
UID:20260424T072123Z-7452333007434731715@eventfrog.ch
DTSTAMP:20260424T072123Z
DTSTART:20260725T130000Z
DTEND:20260725T143000Z
SUMMARY:Stadtspaziergang Andernach
DESCRIPTION:Gästeführung durch das historische Andernach\n\nhttps://eventfrog.ch/de/p/fuehrungen-vortraege/stadtfuehrung/stadtspaziergang-andernach-7452333007434731715.html
LOCATION:Tourist-Information Andernach
GEO:50.439492;7.400656
URL:https://eventfrog.ch/de/p/fuehrungen-vortraege/stadtfuehrung/stadtspaziergang-andernach-7452333007434731715.html
END:VEVENT
BEGIN:VEVENT
UID:20260424T072123Z-7452333007501840580@eventfrog.ch
DTSTAMP:20260424T072123Z
DTSTART:20260801T130000Z
DTEND:20260801T143000Z
SUMMARY:Stadtspaziergang Andernach
DESCRIPTION:Gästeführung durch das historische Andernach\n\nhttps://eventfrog.ch/de/p/fuehrungen-vortraege/stadtfuehrung/stadtspaziergang-andernach-7452333007501840580.html
LOCATION:Tourist-Information Andernach
GEO:50.439492;7.400656
URL:https://eventfrog.ch/de/p/fuehrungen-vortraege/stadtfuehrung/stadtspaziergang-andernach-7452333007501840580.html
END:VEVENT
BEGIN:VEVENT
UID:20260424T072123Z-7452333007573143826@eventfrog.ch
DTSTAMP:20260424T072123Z
DTSTART:20260808T130000Z
DTEND:20260808T143000Z
SUMMARY:Stadtspaziergang Andernach
DESCRIPTION:Gästeführung durch das historische Andernach\n\nhttps://eventfrog.ch/de/p/fuehrungen-vortraege/stadtfuehrung/stadtspaziergang-andernach-7452333007573143826.html
LOCATION:Tourist-Information Andernach
GEO:50.439492;7.400656
URL:https://eventfrog.ch/de/p/fuehrungen-vortraege/stadtfuehrung/stadtspaziergang-andernach-7452333007573143826.html
END:VEVENT
BEGIN:VEVENT
UID:20260424T072123Z-7452333007640252694@eventfrog.ch
DTSTAMP:20260424T072123Z
DTSTART:20260815T130000Z
DTEND:20260815T143000Z
SUMMARY:Stadtspaziergang Andernach
DESCRIPTION:Gästeführung durch das historische Andernach\n\nhttps://eventfrog.ch/de/p/fuehrungen-vortraege/stadtfuehrung/stadtspaziergang-andernach-7452333007640252694.html
LOCATION:Tourist-Information Andernach
GEO:50.439492;7.400656
URL:https://eventfrog.ch/de/p/fuehrungen-vortraege/stadtfuehrung/stadtspaziergang-andernach-7452333007640252694.html
END:VEVENT
BEGIN:VEVENT
UID:20260424T072123Z-7452333007711555863@eventfrog.ch
DTSTAMP:20260424T072123Z
DTSTART:20260822T130000Z
DTEND:20260822T143000Z
SUMMARY:Stadtspaziergang Andernach
DESCRIPTION:Gästeführung durch das historische Andernach\n\nhttps://eventfrog.ch/de/p/fuehrungen-vortraege/stadtfuehrung/stadtspaziergang-andernach-7452333007711555863.html
LOCATION:Tourist-Information Andernach
GEO:50.439492;7.400656
URL:https://eventfrog.ch/de/p/fuehrungen-vortraege/stadtfuehrung/stadtspaziergang-andernach-7452333007711555863.html
END:VEVENT
BEGIN:VEVENT
UID:20260424T072123Z-7452333007782859032@eventfrog.ch
DTSTAMP:20260424T072123Z
DTSTART:20260829T130000Z
DTEND:20260829T143000Z
SUMMARY:Stadtspaziergang Andernach
DESCRIPTION:Gästeführung durch das historische Andernach\n\nhttps://eventfrog.ch/de/p/fuehrungen-vortraege/stadtfuehrung/stadtspaziergang-andernach-7452333007782859032.html
LOCATION:Tourist-Information Andernach
GEO:50.439492;7.400656
URL:https://eventfrog.ch/de/p/fuehrungen-vortraege/stadtfuehrung/stadtspaziergang-andernach-7452333007782859032.html
END:VEVENT
BEGIN:VEVENT
UID:20260424T072123Z-7452333007896105241@eventfrog.ch
DTSTAMP:20260424T072123Z
DTSTART:20260905T130000Z
DTEND:20260905T143000Z
SUMMARY:Stadtspaziergang Andernach
DESCRIPTION:Gästeführung durch das historische Andernach\n\nhttps://eventfrog.ch/de/p/fuehrungen-vortraege/stadtfuehrung/stadtspaziergang-andernach-7452333007896105241.html
LOCATION:Tourist-Information Andernach
GEO:50.439492;7.400656
URL:https://eventfrog.ch/de/p/fuehrungen-vortraege/stadtfuehrung/stadtspaziergang-andernach-7452333007896105241.html
END:VEVENT
BEGIN:VEVENT
UID:20260424T072123Z-7452333007975797021@eventfrog.ch
DTSTAMP:20260424T072123Z
DTSTART:20260912T130000Z
DTEND:20260912T143000Z
SUMMARY:Stadtspaziergang Andernach
DESCRIPTION:Gästeführung durch das historische Andernach\n\nhttps://eventfrog.ch/de/p/fuehrungen-vortraege/stadtfuehrung/stadtspaziergang-andernach-7452333007975797021.html
LOCATION:Tourist-Information Andernach
GEO:50.439492;7.400656
URL:https://eventfrog.ch/de/p/fuehrungen-vortraege/stadtfuehrung/stadtspaziergang-andernach-7452333007975797021.html
END:VEVENT
BEGIN:VEVENT
UID:20260424T072123Z-7452333008093237534@eventfrog.ch
DTSTAMP:20260424T072123Z
DTSTART:20260919T130000Z
DTEND:20260919T143000Z
SUMMARY:Stadtspaziergang Andernach
DESCRIPTION:Gästeführung durch das historische Andernach\n\nhttps://eventfrog.ch/de/p/fuehrungen-vortraege/stadtfuehrung/stadtspaziergang-andernach-7452333008093237534.html
LOCATION:Tourist-Information Andernach
GEO:50.439492;7.400656
URL:https://eventfrog.ch/de/p/fuehrungen-vortraege/stadtfuehrung/stadtspaziergang-andernach-7452333008093237534.html
END:VEVENT
BEGIN:VEVENT
UID:20260424T072123Z-7452333008206483743@eventfrog.ch
DTSTAMP:20260424T072123Z
DTSTART:20260926T130000Z
DTEND:20260926T143000Z
SUMMARY:Stadtspaziergang Andernach
DESCRIPTION:Gästeführung durch das historische Andernach\n\nhttps://eventfrog.ch/de/p/fuehrungen-vortraege/stadtfuehrung/stadtspaziergang-andernach-7452333008206483743.html
LOCATION:Tourist-Information Andernach
GEO:50.439492;7.400656
URL:https://eventfrog.ch/de/p/fuehrungen-vortraege/stadtfuehrung/stadtspaziergang-andernach-7452333008206483743.html
END:VEVENT
BEGIN:VEVENT
UID:20260424T072123Z-7452333008290369824@eventfrog.ch
DTSTAMP:20260424T072123Z
DTSTART:20261003T130000Z
DTEND:20261003T143000Z
SUMMARY:Stadtspaziergang Andernach
DESCRIPTION:Gästeführung durch das historische Andernach\n\nhttps://eventfrog.ch/de/p/fuehrungen-vortraege/stadtfuehrung/stadtspaziergang-andernach-7452333008290369824.html
LOCATION:Tourist-Information Andernach
GEO:50.439492;7.400656
URL:https://eventfrog.ch/de/p/fuehrungen-vortraege/stadtfuehrung/stadtspaziergang-andernach-7452333008290369824.html
END:VEVENT
BEGIN:VEVENT
UID:20260424T072123Z-7452333008374255905@eventfrog.ch
DTSTAMP:20260424T072123Z
DTSTART:20261010T130000Z
DTEND:20261010T143000Z
SUMMARY:Stadtspaziergang Andernach
DESCRIPTION:Gästeführung durch das historische Andernach\n\nhttps://eventfrog.ch/de/p/fuehrungen-vortraege/stadtfuehrung/stadtspaziergang-andernach-7452333008374255905.html
LOCATION:Tourist-Information Andernach
GEO:50.439492;7.400656
URL:https://eventfrog.ch/de/p/fuehrungen-vortraege/stadtfuehrung/stadtspaziergang-andernach-7452333008374255905.html
END:VEVENT
BEGIN:VEVENT
UID:20260424T072123Z-7452333008453947682@eventfrog.ch
DTSTAMP:20260424T072123Z
DTSTART:20261017T130000Z
DTEND:20261017T143000Z
SUMMARY:Stadtspaziergang Andernach
DESCRIPTION:Gästeführung durch das historische Andernach\n\nhttps://eventfrog.ch/de/p/fuehrungen-vortraege/stadtfuehrung/stadtspaziergang-andernach-7452333008453947682.html
LOCATION:Tourist-Information Andernach
GEO:50.439492;7.400656
URL:https://eventfrog.ch/de/p/fuehrungen-vortraege/stadtfuehrung/stadtspaziergang-andernach-7452333008453947682.html
END:VEVENT
BEGIN:VEVENT
UID:20260424T072123Z-7452333008550416675@eventfrog.ch
DTSTAMP:20260424T072123Z
DTSTART:20261024T130000Z
DTEND:20261024T143000Z
SUMMARY:Stadtspaziergang Andernach
DESCRIPTION:Gästeführung durch das historische Andernach\n\nhttps://eventfrog.ch/de/p/fuehrungen-vortraege/stadtfuehrung/stadtspaziergang-andernach-7452333008550416675.html
LOCATION:Tourist-Information Andernach
GEO:50.439492;7.400656
URL:https://eventfrog.ch/de/p/fuehrungen-vortraege/stadtfuehrung/stadtspaziergang-andernach-7452333008550416675.html
END:VEVENT
BEGIN:VEVENT
UID:20260424T072123Z-7452333008651079997@eventfrog.ch
DTSTAMP:20260424T072123Z
DTSTART:20261031T140000Z
DTEND:20261031T153000Z
SUMMARY:Stadtspaziergang Andernach
DESCRIPTION:Gästeführung durch das historische Andernach\n\nhttps://eventfrog.ch/de/p/fuehrungen-vortraege/stadtfuehrung/stadtspaziergang-andernach-7452333008651079997.html
LOCATION:Tourist-Information Andernach
GEO:50.439492;7.400656
URL:https://eventfrog.ch/de/p/fuehrungen-vortraege/stadtfuehrung/stadtspaziergang-andernach-7452333008651079997.html
END:VEVENT
END:VCALENDAR