BEGIN:VCALENDAR
VERSION:2.0
PRODID:EVENTFROG//EVENTGROUP//ICAL
BEGIN:VEVENT
UID:20260424T063600Z-7452333690846200896@eventfrog.ch
DTSTAMP:20260424T063600Z
DTSTART:20261018T113000Z
SUMMARY:Zaubersocken - Neue Trixx, frisch serviert!
DESCRIPTION:Frech, bunt und voller Magie – die Zaubersocken sind zurück!\n\nhttps://eventfrog.ch/de/p/kinderveranstaltungen/familienveranstaltungen/zaubersocken-neue-trixx-frisch-serviert-7452333690846200896.html
LOCATION:Theater Fauteuil
GEO:47.557349;7.586407
URL:https://eventfrog.ch/de/p/kinderveranstaltungen/familienveranstaltungen/zaubersocken-neue-trixx-frisch-serviert-7452333690846200896.html
END:VEVENT
BEGIN:VEVENT
UID:20260424T063600Z-7452333745992911739@eventfrog.ch
DTSTAMP:20260424T063600Z
DTSTART:20261018T140000Z
SUMMARY:Zaubersocken - Neue Trixx, frisch serviert!
DESCRIPTION:Frech, bunt und voller Magie – die Zaubersocken sind zurück!\n\nhttps://eventfrog.ch/de/p/kinderveranstaltungen/familienveranstaltungen/zaubersocken-neue-trixx-frisch-serviert-7452333745992911739.html
LOCATION:Theater Fauteuil
GEO:47.557349;7.586407
URL:https://eventfrog.ch/de/p/kinderveranstaltungen/familienveranstaltungen/zaubersocken-neue-trixx-frisch-serviert-7452333745992911739.html
END:VEVENT
END:VCALENDAR