BEGIN:VCALENDAR
VERSION:2.0
PRODID:EVENTFROG//EVENTGROUP//ICAL
BEGIN:VEVENT
UID:20260424T064910Z-7452423892767912325@eventfrog.ch
DTSTAMP:20260424T064910Z
DTSTART:20260516T090000Z
SUMMARY:Progetto Tchaikosky
DESCRIPTION:Orchestra Le Nove spielt Tchaikovskys Serenade und Souvenir de Florence erstmals als reines Streichorchester unter Yuram Ruiz.\n\nhttps://eventfrog.ch/de/p/klassik-opern/klassik/progetto-tchaikosky-7452423892767912325.html
LOCATION:Chiesa Evangelica Riformata
GEO:46.005432;8.959060
URL:https://eventfrog.ch/de/p/klassik-opern/klassik/progetto-tchaikosky-7452423892767912325.html
END:VEVENT
BEGIN:VEVENT
UID:20260424T064910Z-7452424121240056622@eventfrog.ch
DTSTAMP:20260424T064910Z
DTSTART:20260516T183000Z
SUMMARY:Progetto Tchaikosky
DESCRIPTION:Orchestra Le Nove spielt Tchaikovskys Serenade und Souvenir de Florence erstmals als reines Streichorchester unter Yuram Ruiz.\n\nhttps://eventfrog.ch/de/p/klassik-opern/klassik/progetto-tchaikosky-7452424121240056622.html
LOCATION:Chiesa Evangelica Riformata
GEO:46.005432;8.959060
URL:https://eventfrog.ch/de/p/klassik-opern/klassik/progetto-tchaikosky-7452424121240056622.html
END:VEVENT
END:VCALENDAR