BEGIN:VCALENDAR
VERSION:2.0
PRODID:EVENTFROG//EVENTGROUP//ICAL
BEGIN:VEVENT
UID:20260424T053222Z-7418064289431296235@eventfrog.ch
DTSTAMP:20260424T053222Z
DTSTART:20260428T173000Z
SUMMARY:Populäre Songs im Wandel der Zeit
DESCRIPTION:Mit Christian Schorno, Musikhistoriker.\n\nhttps://eventfrog.ch/de/p/wissenschaft-und-technik/populaere-songs-im-wandel-der-zeit-7418064289431296235.html
LOCATION:SQUARE HSG
GEO:47.433291;9.374780
URL:https://eventfrog.ch/de/p/wissenschaft-und-technik/populaere-songs-im-wandel-der-zeit-7418064289431296235.html
END:VEVENT
BEGIN:VEVENT
UID:20260424T053222Z-7418064291662665973@eventfrog.ch
DTSTAMP:20260424T053222Z
DTSTART:20260512T173000Z
SUMMARY:Populäre Songs im Wandel der Zeit
DESCRIPTION:Mit Christian Schorno, Musikhistoriker.\n\nhttps://eventfrog.ch/de/p/wissenschaft-und-technik/populaere-songs-im-wandel-der-zeit-7418064291662665973.html
LOCATION:SQUARE HSG
GEO:47.433291;9.374780
URL:https://eventfrog.ch/de/p/wissenschaft-und-technik/populaere-songs-im-wandel-der-zeit-7418064291662665973.html
END:VEVENT
END:VCALENDAR