BEGIN:VCALENDAR
VERSION:2.0
PRODID:EVENTFROG//EVENTGROUP//ICAL
BEGIN:VEVENT
UID:20260424T063655Z-7452476240101960669@eventfrog.ch
DTSTAMP:20260424T063655Z
DTSTART:20260502T110000Z
DTEND:20260502T113000Z
SUMMARY:Trendshow
DESCRIPTION:Trendshow präsentiert nicht nur Mode\n\nhttps://eventfrog.ch/de/p/theater-buehne/trendshow-7452476240101960669.html
LOCATION:dGass
GEO:47.166860;9.478845
URL:https://eventfrog.ch/de/p/theater-buehne/trendshow-7452476240101960669.html
END:VEVENT
BEGIN:VEVENT
UID:20260424T063655Z-7452476240299092958@eventfrog.ch
DTSTAMP:20260424T063655Z
DTSTART:20260502T130000Z
DTEND:20260502T133000Z
SUMMARY:Trendshow
DESCRIPTION:Trendshow präsentiert nicht nur Mode\n\nhttps://eventfrog.ch/de/p/theater-buehne/trendshow-7452476240299092958.html
LOCATION:dGass
GEO:47.166860;9.478845
URL:https://eventfrog.ch/de/p/theater-buehne/trendshow-7452476240299092958.html
END:VEVENT
END:VCALENDAR