BEGIN:VCALENDAR
VERSION:2.0
PRODID:EVENTFROG//EVENTGROUP//ICAL
BEGIN:VEVENT
UID:20260424T022544Z-7452711763974336274@eventfrog.ch
DTSTAMP:20260424T022544Z
DTSTART:20260826T143000Z
SUMMARY:Zirkus Chnopf - UFE
DESCRIPTION:UFE ist die neuste Produktion vom Zirkus Chnopf mit 5 Profis und 5 Jugendlichen und jungen Artist:innen zwischen 14 und 23 - unter freiem Himmel.\n\nhttps://eventfrog.ch/de/p/musicals-shows/zirkus/zirkus-chnopf-ufe-7452711763974336274.html
LOCATION:Viehmarkt
GEO:47.493130;8.732242
URL:https://eventfrog.ch/de/p/musicals-shows/zirkus/zirkus-chnopf-ufe-7452711763974336274.html
END:VEVENT
BEGIN:VEVENT
UID:20260424T022544Z-7452712873833304109@eventfrog.ch
DTSTAMP:20260424T022544Z
DTSTART:20260828T173000Z
SUMMARY:Zirkus Chnopf - UFE
DESCRIPTION:UFE ist die neuste Produktion vom Zirkus Chnopf mit 5 Profis und 5 Jugendlichen und jungen Artist:innen zwischen 14 und 23 - unter freiem Himmel.\n\nhttps://eventfrog.ch/de/p/musicals-shows/zirkus/zirkus-chnopf-ufe-7452712873833304109.html
LOCATION:Viehmarkt
GEO:47.493130;8.732242
URL:https://eventfrog.ch/de/p/musicals-shows/zirkus/zirkus-chnopf-ufe-7452712873833304109.html
END:VEVENT
BEGIN:VEVENT
UID:20260424T022544Z-7452713133670456844@eventfrog.ch
DTSTAMP:20260424T022544Z
DTSTART:20260829T173000Z
SUMMARY:Zirkus Chnopf - UFE
DESCRIPTION:UFE ist die neuste Produktion vom Zirkus Chnopf mit 5 Profis und 5 Jugendlichen und jungen Artist:innen zwischen 14 und 23 - unter freiem Himmel.\n\nhttps://eventfrog.ch/de/p/musicals-shows/zirkus/zirkus-chnopf-ufe-7452713133670456844.html
LOCATION:Viehmarkt
GEO:47.493130;8.732242
URL:https://eventfrog.ch/de/p/musicals-shows/zirkus/zirkus-chnopf-ufe-7452713133670456844.html
END:VEVENT
BEGIN:VEVENT
UID:20260424T022544Z-7452713231687151344@eventfrog.ch
DTSTAMP:20260424T022544Z
DTSTART:20260830T143000Z
SUMMARY:Zirkus Chnopf - UFE
DESCRIPTION:UFE ist die neuste Produktion vom Zirkus Chnopf mit 5 Profis und 5 Jugendlichen und jungen Artist:innen zwischen 14 und 23 - unter freiem Himmel.\n\nhttps://eventfrog.ch/de/p/musicals-shows/zirkus/zirkus-chnopf-ufe-7452713231687151344.html
LOCATION:Viehmarkt
GEO:47.493130;8.732242
URL:https://eventfrog.ch/de/p/musicals-shows/zirkus/zirkus-chnopf-ufe-7452713231687151344.html
END:VEVENT
END:VCALENDAR