BEGIN:VCALENDAR
VERSION:2.0
PRODID:EVENTFROG//EVENTGROUP//ICAL
BEGIN:VEVENT
UID:20260426T022903Z-7441255949694686346@eventfrog.ch
DTSTAMP:20260426T022903Z
DTSTART:20260514T160000Z
SUMMARY:Wolves
DESCRIPTION:Wolves\n\nhttps://eventfrog.ch/de/p/freizeit-ausfluege/wolves-7441255949694686346.html
LOCATION:Kino Cameo
GEO:47.494450;8.718060
URL:https://eventfrog.ch/de/p/freizeit-ausfluege/wolves-7441255949694686346.html
END:VEVENT
BEGIN:VEVENT
UID:20260426T022903Z-7441255949862458507@eventfrog.ch
DTSTAMP:20260426T022903Z
DTSTART:20260515T181500Z
SUMMARY:Wolves
DESCRIPTION:Wolves\n\nhttps://eventfrog.ch/de/p/freizeit-ausfluege/wolves-7441255949862458507.html
LOCATION:Kino Cameo
GEO:47.494450;8.718060
URL:https://eventfrog.ch/de/p/freizeit-ausfluege/wolves-7441255949862458507.html
END:VEVENT
BEGIN:VEVENT
UID:20260426T022903Z-7441255950030230668@eventfrog.ch
DTSTAMP:20260426T022903Z
DTSTART:20260527T160000Z
SUMMARY:Wolves
DESCRIPTION:Wolves\n\nhttps://eventfrog.ch/de/p/freizeit-ausfluege/wolves-7441255950030230668.html
LOCATION:Kino Cameo
GEO:47.494450;8.718060
URL:https://eventfrog.ch/de/p/freizeit-ausfluege/wolves-7441255950030230668.html
END:VEVENT
BEGIN:VEVENT
UID:20260426T022903Z-7441255950198002829@eventfrog.ch
DTSTAMP:20260426T022903Z
DTSTART:20260531T104500Z
SUMMARY:Wolves
DESCRIPTION:Wolves\n\nhttps://eventfrog.ch/de/p/freizeit-ausfluege/wolves-7441255950198002829.html
LOCATION:Kino Cameo
GEO:47.494450;8.718060
URL:https://eventfrog.ch/de/p/freizeit-ausfluege/wolves-7441255950198002829.html
END:VEVENT
END:VCALENDAR