BEGIN:VCALENDAR
VERSION:2.0
PRODID:EVENTFROG//EVENTGROUP//ICAL
BEGIN:VEVENT
UID:20260424T132029Z-7426762061273652219@eventfrog.ch
DTSTAMP:20260424T132029Z
DTSTART:20260626T160000Z
DTEND:20260626T193000Z
SUMMARY:Earlymove on Friday
DESCRIPTION:"Earlymove on Friday" - Historische Tänze\n\nhttps://eventfrog.ch/de/p/kurse-seminare/earlymove-on-friday-7426762061273652219.html
LOCATION:Rösslisaal Trogen
GEO:47.408370;9.463570
URL:https://eventfrog.ch/de/p/kurse-seminare/earlymove-on-friday-7426762061273652219.html
END:VEVENT
END:VCALENDAR