BEGIN:VCALENDAR
VERSION:2.0
PRODID:EVENTFROG//EVENTGROUP//ICAL
BEGIN:VEVENT
UID:20260424T063653Z-7452838922390905173@eventfrog.ch
DTSTAMP:20260424T063653Z
DTSTART:20260429T170000Z
DTEND:20260429T183000Z
SUMMARY:Theaterensemble der Kantonsschule Trogen - Jugend ohne Gott
DESCRIPTION:Jugend ohne Gott (Ödön von Horváth)\n\nhttps://eventfrog.ch/de/p/theater-buehne/theaterensemble-der-kantonsschule-trogen-jugend-ohne-gott-7452838922390905173.html
LOCATION:Aula der Kantonsschule Trogen
GEO:47.408531;9.460668
URL:https://eventfrog.ch/de/p/theater-buehne/theaterensemble-der-kantonsschule-trogen-jugend-ohne-gott-7452838922390905173.html
END:VEVENT
BEGIN:VEVENT
UID:20260424T063653Z-7452838924857155996@eventfrog.ch
DTSTAMP:20260424T063653Z
DTSTART:20260430T170000Z
DTEND:20260430T183000Z
SUMMARY:Theaterensemble der Kantonsschule Trogen - Jugend ohne Gott
DESCRIPTION:Jugend ohne Gott (Ödön von Horváth)\n\nhttps://eventfrog.ch/de/p/theater-buehne/theaterensemble-der-kantonsschule-trogen-jugend-ohne-gott-7452838924857155996.html
LOCATION:Aula der Kantonsschule Trogen
GEO:47.408531;9.460668
URL:https://eventfrog.ch/de/p/theater-buehne/theaterensemble-der-kantonsschule-trogen-jugend-ohne-gott-7452838924857155996.html
END:VEVENT
BEGIN:VEVENT
UID:20260424T063653Z-7452838927247909277@eventfrog.ch
DTSTAMP:20260424T063653Z
DTSTART:20260501T170000Z
DTEND:20260501T183000Z
SUMMARY:Theaterensemble der Kantonsschule Trogen - Jugend ohne Gott
DESCRIPTION:Jugend ohne Gott (Ödön von Horváth)\n\nhttps://eventfrog.ch/de/p/theater-buehne/theaterensemble-der-kantonsschule-trogen-jugend-ohne-gott-7452838927247909277.html
LOCATION:Aula der Kantonsschule Trogen
GEO:47.408531;9.460668
URL:https://eventfrog.ch/de/p/theater-buehne/theaterensemble-der-kantonsschule-trogen-jugend-ohne-gott-7452838927247909277.html
END:VEVENT
BEGIN:VEVENT
UID:20260424T063653Z-7452838929684799902@eventfrog.ch
DTSTAMP:20260424T063653Z
DTSTART:20260502T170000Z
DTEND:20260502T183000Z
SUMMARY:Theaterensemble der Kantonsschule Trogen - Jugend ohne Gott
DESCRIPTION:Jugend ohne Gott (Ödön von Horváth)\n\nhttps://eventfrog.ch/de/p/theater-buehne/theaterensemble-der-kantonsschule-trogen-jugend-ohne-gott-7452838929684799902.html
LOCATION:Aula der Kantonsschule Trogen
GEO:47.408531;9.460668
URL:https://eventfrog.ch/de/p/theater-buehne/theaterensemble-der-kantonsschule-trogen-jugend-ohne-gott-7452838929684799902.html
END:VEVENT
END:VCALENDAR