BEGIN:VCALENDAR
VERSION:2.0
PRODID:EVENTFROG//EVENTGROUP//ICAL
BEGIN:VEVENT
UID:20260424T063657Z-7452864907572154573@eventfrog.ch
DTSTAMP:20260424T063657Z
DTSTART:20260503T150000Z
DTEND:20260503T160000Z
SUMMARY:REINCARNATIONS Chorkonzert
DESCRIPTION:Das Konzert «Reincarnations» verbindet gälische Mythen mit Werken von Clara Schumann und anderen, begleitet am Klavier von Marc Hunziker.\n\nhttps://eventfrog.ch/de/p/konzerte/a-cappella-vocal/reincarnations-chorkonzert-7452864907572154573.html
LOCATION:Reformierte Kirche Sursee
GEO:47.170611;8.107316
URL:https://eventfrog.ch/de/p/konzerte/a-cappella-vocal/reincarnations-chorkonzert-7452864907572154573.html
END:VEVENT
BEGIN:VEVENT
UID:20260424T063657Z-7452865173054824631@eventfrog.ch
DTSTAMP:20260424T063657Z
DTSTART:20260509T173000Z
DTEND:20260509T183000Z
SUMMARY:REINCARNATIONS Chorkonzert
DESCRIPTION:Das Konzert «Reincarnations» verbindet gälische Mythen mit Werken von Clara Schumann und anderen, begleitet am Klavier von Marc Hunziker.\n\nhttps://eventfrog.ch/de/p/konzerte/a-cappella-vocal/reincarnations-chorkonzert-7452865173054824631.html
LOCATION:Reformierte Kirche Sursee
GEO:47.170611;8.107316
URL:https://eventfrog.ch/de/p/konzerte/a-cappella-vocal/reincarnations-chorkonzert-7452865173054824631.html
END:VEVENT
END:VCALENDAR