BEGIN:VCALENDAR
VERSION:2.0
PRODID:EVENTFROG//EVENT//ICAL
BEGIN:VEVENT
UID:20260419T163349Z-7380213989739920527@eventfrog.ch
DTSTAMP:20260419T163349Z
DTSTART:20260425T063000Z
DTEND:20260426T153000Z
SUMMARY:ADAC Motorrad 2-Tages Training
DESCRIPTION:Fahraktive Super Kombination\nKombination aus Motorrad-Intensiv- und Perfektions-Training\n\nhttps://eventfrog.ch/de/p/diverses/adac-motorrad-2-tages-training-7380213989739920527.html
LOCATION:ADAC Fahrsicherheitszentrum Grevenbroich
GEO:51.083287;6.551566
URL:https://eventfrog.ch/de/p/diverses/adac-motorrad-2-tages-training-7380213989739920527.html
END:VEVENT
END:VCALENDAR