BEGIN:VCALENDAR
VERSION:2.0
PRODID:EVENTFROG//EVENT//ICAL
BEGIN:VEVENT
UID:20260424T163900Z-7381144278125261763@eventfrog.ch
DTSTAMP:20260424T163900Z
DTSTART:20270501T173000Z
DTEND:20270501T213000Z
SUMMARY:Schlager Party Polen 2027
DESCRIPTION:Erlebt die Schlagerparty Polen 2027 mit Mia Weber, Nancy Franck und Devin Nahrstedt live im Pod Jaskółka. Trefft die Künstler persönlich für unvergessliche Momente!\n\nhttps://eventfrog.ch/de/p/partys/schlager-volksmusik/schlager-party-polen-2027-7381144278125261763.html
LOCATION:Pod Jaskółką
GEO:50.983989;20.593158
URL:https://eventfrog.ch/de/p/partys/schlager-volksmusik/schlager-party-polen-2027-7381144278125261763.html
END:VEVENT
END:VCALENDAR