BEGIN:VCALENDAR
VERSION:2.0
PRODID:EVENTFROG//EVENT//ICAL
BEGIN:VEVENT
UID:20260424T163905Z-7383560838060200293@eventfrog.ch
DTSTAMP:20260424T163905Z
DTSTART:20260425T170000Z
DTEND:20260425T200000Z
SUMMARY:Mostprobe Berglen
DESCRIPTION:Bei der Mostprobe in Berglen präsentieren Moster aus Berglen und naher Umgebung ihren Most. Ein geselliger Abend mit Verkostung, Vesper und Rahmenprogramm. Alles rund um Früchte und Most.\n\nhttps://eventfrog.ch/de/p/essen-trinken/mostprobe-berglen-7383560838060200293.html
LOCATION:Bürgerhaus Rettersburg
GEO:48.872748;9.471528
URL:https://eventfrog.ch/de/p/essen-trinken/mostprobe-berglen-7383560838060200293.html
END:VEVENT
END:VCALENDAR