BEGIN:VCALENDAR
VERSION:2.0
PRODID:EVENTFROG//EVENT//ICAL
BEGIN:VEVENT
UID:20260426T033818Z-7383927952914831653@eventfrog.ch
DTSTAMP:20260426T033818Z
DTSTART:20260430T170000Z
DTEND:20260501T020000Z
SUMMARY:Tanz in den Mai Schönberg 2026
DESCRIPTION:Feiere den ultimativen Tanz in den Mai in der Palmberghalle in Schönberg mit mitreißender Musik und ausgelassener Stimmung für alle Altersgruppen.\n\nhttps://eventfrog.ch/de/p/partys/disco/tanz-in-den-mai-schoenberg-2026-7383927952914831653.html
LOCATION:Palmberghalle
GEO:53.849500;10.923810
URL:https://eventfrog.ch/de/p/partys/disco/tanz-in-den-mai-schoenberg-2026-7383927952914831653.html
END:VEVENT
END:VCALENDAR