BEGIN:VCALENDAR
VERSION:2.0
PRODID:EVENTFROG//EVENT//ICAL
BEGIN:VEVENT
UID:20260424T064911Z-7398732907475428898@eventfrog.ch
DTSTAMP:20260424T064911Z
DTSTART:20260425T060000Z
DTEND:20260425T083000Z
SUMMARY:Clown Zmorge mit Mili & Märi
DESCRIPTION:Geniesst das Frühstücks-Buffet im Berggasthaus während die Clowns Mili und Märi die grossen, wie die kleinen Gäste zum Lachen bringen.\n\nhttps://eventfrog.ch/de/p/essen-trinken/clown-zmorge-mit-mili-maeri-7398732907475428898.html
LOCATION:Berggasthaus Kronberg
GEO:47.291537;9.327925
URL:https://eventfrog.ch/de/p/essen-trinken/clown-zmorge-mit-mili-maeri-7398732907475428898.html
END:VEVENT
END:VCALENDAR