BEGIN:VCALENDAR
VERSION:2.0
PRODID:EVENTFROG//EVENT//ICAL
BEGIN:VEVENT
UID:20260419T213350Z-7414944114901295004@eventfrog.ch
DTSTAMP:20260419T213350Z
DTSTART:20260510T080000Z
DTEND:20260510T150000Z
SUMMARY:Camper & Vanlife Event Messe
DESCRIPTION:Vom 8. bis 10. Mai 2026 zeigt die Camper & Vanlife Messe am Jagdschloss Springe mobile Reise- und Outdoor-Innovationen.\n\nhttps://eventfrog.ch/de/p/messen/messe/camper-vanlife-event-messe-7414944114901295004.html
LOCATION:Jagdschloss Springe - Niedersächsische Landesforsten
GEO:52.188995;9.573487
URL:https://eventfrog.ch/de/p/messen/messe/camper-vanlife-event-messe-7414944114901295004.html
END:VEVENT
END:VCALENDAR