BEGIN:VCALENDAR
VERSION:2.0
PRODID:EVENTFROG//EVENT//ICAL
BEGIN:VEVENT
UID:20260425T123304Z-7416505449413894183@eventfrog.ch
DTSTAMP:20260425T123304Z
DTSTART:20260620T070000Z
DTEND:20260620T170000Z
SUMMARY:IMPULS-Tagung erlebe DICH
DESCRIPTION:IMPULS-TAGUNG für Dein Erleben  erlebe DICH wird bei uns groß geschrieben. Du hörst nicht nur zu, Du erlebst, bist mitten drin, nimmst mit. Gemeinsam mit Menschen, die sich weiterentwickeln wollen.\n\nhttps://eventfrog.ch/de/p/kurse-seminare/coaching/impuls-tagung-erlebe-dich-7416505449413894183.html
LOCATION:Wittelsbacher Saal  Kloster Scheyern  Schyrenpl. 1  85298 Scheyern
GEO:48.500538;11.452577
URL:https://eventfrog.ch/de/p/kurse-seminare/coaching/impuls-tagung-erlebe-dich-7416505449413894183.html
END:VEVENT
END:VCALENDAR