BEGIN:VCALENDAR
VERSION:2.0
PRODID:EVENTFROG//EVENT//ICAL
BEGIN:VEVENT
UID:20260425T234414Z-7423499814631951495@eventfrog.ch
DTSTAMP:20260425T234414Z
DTSTART:20260425T180000Z
DTEND:20260425T215900Z
SUMMARY:Kellergeräusche, Johnethen Fuchs, Why Frog Why
DESCRIPTION:Grunge, Stoner, Garage, Post-Punk, Psychedelic- & Indierock.\n\nhttps://eventfrog.ch/de/p/konzerte/kellergeraeusche-johnethen-fuchs-why-frog-why-7423499814631951495.html
LOCATION:Camäleon
GEO:47.148800;9.516683
URL:https://eventfrog.ch/de/p/konzerte/kellergeraeusche-johnethen-fuchs-why-frog-why-7423499814631951495.html
END:VEVENT
END:VCALENDAR