BEGIN:VCALENDAR
VERSION:2.0
PRODID:EVENTFROG//EVENT//ICAL
BEGIN:VEVENT
UID:20260426T034216Z-7430216801349284410@eventfrog.ch
DTSTAMP:20260426T034216Z
DTSTART:20260428T130000Z
DTEND:20260428T140000Z
SUMMARY:Singzeit für kleine Herzen - mit Eva von Herzgesang
DESCRIPTION:Musiknachmittag für Kinder von 3 bis 6 Jahren mit Singen, Bewegen und Kinderliedern, Anmeldung erforderlich, Plätze limitiert.\n\nhttps://eventfrog.ch/de/p/kinderveranstaltungen/familienveranstaltungen/singzeit-fuer-kleine-herzen-mit-eva-von-herzgesang-7430216801349284410.html
LOCATION:Handmade by Jana
GEO:48.799001;9.795643
URL:https://eventfrog.ch/de/p/kinderveranstaltungen/familienveranstaltungen/singzeit-fuer-kleine-herzen-mit-eva-von-herzgesang-7430216801349284410.html
END:VEVENT
END:VCALENDAR