BEGIN:VCALENDAR
VERSION:2.0
PRODID:EVENTFROG//EVENT//ICAL
BEGIN:VEVENT
UID:20260424T030705Z-7431643181307966308@eventfrog.ch
DTSTAMP:20260424T030705Z
DTSTART:20260425T163000Z
DTEND:20260425T200000Z
SUMMARY:Whisky-Tasting und Dinner
DESCRIPTION:Die schottische Genussreise - ein Erlebnis für die Sinne\n\nhttps://eventfrog.ch/de/p/essen-trinken/whisky-tasting-und-dinner-7431643181307966308.html
LOCATION:Van der Valk Golfhotel Serrahn
GEO:53.654357;12.344555
URL:https://eventfrog.ch/de/p/essen-trinken/whisky-tasting-und-dinner-7431643181307966308.html
END:VEVENT
END:VCALENDAR