BEGIN:VCALENDAR
VERSION:2.0
PRODID:EVENTFROG//EVENT//ICAL
BEGIN:VEVENT
UID:20260425T123221Z-7433026037854792808@eventfrog.ch
DTSTAMP:20260425T123221Z
DTSTART:20260919T080000Z
DTEND:20260920T150000Z
SUMMARY:Pilzkurs: Pilze sicher erkennen lernen – 2-Tageskurs
DESCRIPTION:Was dich erwartet:\n\n\n 2-Tages-Intensivkurs\n Einführung in die Theorie und Grundlagen zur sicheren Pilzbestimmung\n Sichere Bestimmung erster Speisepilzarten\n Gemeinsames Erkunden mit anschließe\n\nhttps://eventfrog.ch/de/p/kurse-seminare/sonstige-kurse-seminare/pilzkurs-pilze-sicher-erkennen-lernen-2-tageskurs-7433026037854792808.html
LOCATION:Pilzkurse & Pilzwanderungen Bergstraße/Odenwald
GEO:49.687054;8.724414
URL:https://eventfrog.ch/de/p/kurse-seminare/sonstige-kurse-seminare/pilzkurs-pilze-sicher-erkennen-lernen-2-tageskurs-7433026037854792808.html
END:VEVENT
END:VCALENDAR