BEGIN:VCALENDAR
VERSION:2.0
PRODID:EVENTFROG//EVENT//ICAL
BEGIN:VEVENT
UID:20260419T220312Z-7434733487398061717@eventfrog.ch
DTSTAMP:20260419T220312Z
DTSTART:20260514T170000Z
DTEND:20260514T210000Z
SUMMARY:Queer Treff
DESCRIPTION:Queer Treff\n\nhttps://eventfrog.ch/de/p/diverses/queer-treff-7434733487398061717.html
LOCATION:wilsch - queer Winterthur
GEO:47.499280;8.731780
URL:https://eventfrog.ch/de/p/diverses/queer-treff-7434733487398061717.html
END:VEVENT
END:VCALENDAR