BEGIN:VCALENDAR
VERSION:2.0
PRODID:EVENTFROG//EVENT//ICAL
BEGIN:VEVENT
UID:20260425T002032Z-7437825462661852148@eventfrog.ch
DTSTAMP:20260425T002032Z
DTSTART:20260424T183000Z
DTEND:20260424T215900Z
SUMMARY:(Werner Nadolnys)  JANE – 50 Jahre  Fire Water Earth & Air T
DESCRIPTION:TFNRSH und THE SPACELORDS live bei Kultur im Kessel – moderner Psychedelic-/Progressive-Rock trifft auf etablierten Space-Rock. Intensiv und atmosphärisch.\n\nhttps://eventfrog.ch/de/p/konzerte/pop-rock/werner-nadolnys-jane-50-jahre-fire-water-earth-air-t-7437825462661852148.html
LOCATION:Belinda Areal
GEO:49.004142;9.496766
URL:https://eventfrog.ch/de/p/konzerte/pop-rock/werner-nadolnys-jane-50-jahre-fire-water-earth-air-t-7437825462661852148.html
END:VEVENT
END:VCALENDAR