BEGIN:VCALENDAR
VERSION:2.0
PRODID:EVENTFROG//EVENT//ICAL
BEGIN:VEVENT
UID:20260420T020455Z-7437886966895497794@eventfrog.ch
DTSTAMP:20260420T020455Z
DTSTART:20260423T160000Z
DTEND:20260423T180000Z
SUMMARY:Vortrag des Fördervereins im Küstenmuseum
DESCRIPTION:Vortrag des Fördervereins im Küstenmuseum mit Dr. Stefan Krabath: Die Häuptlingsburg von Tengshausen im Licht aktueller Ausgrabungen.\n\n\n\nhttps://eventfrog.ch/de/p/fuehrungen-vortraege/vortrag/vortrag-des-foerdervereins-im-kuestenmuseum-7437886966895497794.html
LOCATION:Küstenmuseum Wilhelmshaven
GEO:53.515331;8.124609
URL:https://eventfrog.ch/de/p/fuehrungen-vortraege/vortrag/vortrag-des-foerdervereins-im-kuestenmuseum-7437886966895497794.html
END:VEVENT
END:VCALENDAR