BEGIN:VCALENDAR
VERSION:2.0
PRODID:EVENTFROG//EVENT//ICAL
BEGIN:VEVENT
UID:20260419T220309Z-7437887734939658514@eventfrog.ch
DTSTAMP:20260419T220309Z
DTSTART:20260423T160000Z
SUMMARY:Best of Orgel rockt
DESCRIPTION:Bei "Best of Orgel rockt" spielt Patrick Gläser Highlights aus 16 Jahren Orgel rockt · Rock, Pop und Filmmusik auf der Kirchenorgel. \n\nhttps://eventfrog.ch/de/p/konzerte/pop-rock/best-of-orgel-rockt-7437887734939658514.html
LOCATION:St.Mauritius
GEO:51.461733;10.933393
URL:https://eventfrog.ch/de/p/konzerte/pop-rock/best-of-orgel-rockt-7437887734939658514.html
END:VEVENT
END:VCALENDAR