BEGIN:VCALENDAR
VERSION:2.0
PRODID:EVENTFROG//EVENT//ICAL
BEGIN:VEVENT
UID:20260419T214528Z-7437995653874084415@eventfrog.ch
DTSTAMP:20260419T214528Z
DTSTART:20260422T180000Z
SUMMARY:Spidergawd & Håndgemeng
DESCRIPTION:Hard Rock.\n\nhttps://eventfrog.ch/de/p/konzerte/spidergawd-handgemeng-7437995653874084415.html
LOCATION:Club Vaudeville
GEO:47.551382;9.722851
URL:https://eventfrog.ch/de/p/konzerte/spidergawd-handgemeng-7437995653874084415.html
END:VEVENT
END:VCALENDAR